Workbook

Sheet A - DATOS GENERALES
A2: A. DATOS GENERALES
A4: EMPRESA
A5: DOMICILIO
A6: POBLACIÓN
A7: CÓDIGO POSTAL
A8: CIF
A9: TELÉFONO DE CONTACTO (FIJO)
A10: TELÉFONO DE CONTACTO (MÓVIL)
A11: CORREO ELECTRÓNICO
A12: PÁGINA WEB

Sheet B - DATOS CONTRATO GESTIÓN
B2: B.1. DATOS GENERALES
B4: CONTRATO PARA EL QUE SE SOLICITA SUBVENCIÓN
B5: NOMBRE DEL CONTRATO
B7: B.2. ITINERARIOS
B9: Se detallarán en el cuadro adjunto los itinerarios que se realizan, indicando la distancia total de cada ruta.
B11: NOMBRE RUTA | C11: ORIGEN | D11: DESTINO | E11: KM RUTA
A12: 1
A13: 2
A14: 3
A15: 4
A16: 5
A17: 6
A18: 7
A19: 8
A20: 9
A21: 10
A22: 11
A23: 12
... A31: 20
B33: B.3. PERSONAL DE CONDUCCIÓN
B35: Se relacionarán los conductores empleados en el servicio regular indicando lugar de residencia de los mismos
B37: CONDUCTOR (APELLIDOS Y NOMBRE) | C37: DNI/NIE | D37: LUGAR DE RESIDENCIA
A38: 1
A39: 2
A40: 3
A41: 4
A42: 5
A43: 6
A44: 7
A45: 8
A46: 9
A47: 10
A48: 11
A49: 12
... A237: 200
B239: B.4. VEHÍCULOS UTILIZADOS
B241: Se deberán incluir los datos de todos los vehículos utilizados en la prestación del contrato de gestión durante los meses de junio a diciembre de 2021
B243: Nº VEHÍCULO | C243: MATRICULA | D243: FECHA DE MATRICULACIÓN | E243: FECHA DE ADQUISICIÓN | F243: FECHA DE ADSCRIPCIÓN AL SERVICIO REGULAR | G243: MARCA Y MODELO DE CARROCERÍA | H243: MARCA Y MODELO DE MOTOR | I243: POTENCIA FISCAL | J243: NÚMERO DE ASIENTOS (INCLUIDO CONDUCTOR) | K243: NÚMERO DE NEUMÁTICOS | L243: TIPO (SERIE) DE NEUMÁTICOS EMPLEADOS | M243: CONSUMO DE COMBUSTIBLE (L/100 KM) | N243: KM RECORRIDOS TOTALES DE JUNIO A DICIEMBRE 2021 | O243: KM RECORRIDOS EN SERVICIO (MINIMO CONCESIONAL) OBJETO DE LA SOLICITUD DE JUNIO A DICIEMBRE 2021 | P243: KM RECORRIDOS EN SERVICIO RESTO EXPEDICIONES SUPLEMENTARIAS DE LA CONCESIÓN OBJETO DE LA SOLICITUD DE JUNIO A DICIEMBRE 2021 | Q243: % KM MINIMO CONCESIONAL SOBRE TOTAL KM RECORRIDOS | R243: % KM TOTAL CONCESION SOBRE TOTAL KM RECORRIDOS
A244: 1 | Q244: =+IF(D244="","",O244/N244) | R244: =+IF(D244="","",(O244+P244)/N244)
A245: 2 | Q245: =+IF(D245="","",O245/N245) | R245: =+IF(D245="","",(O245+P245)/N245)
...

Sheet C - COSTES DE LA EXPLOTACIÓN
B2: C.1. COMBUSTIBLE Y LUBRICANTES
B4: Se determinará en función de los kilómetros recorridos por cada vehiculo adscrito. El coste del combustible se incluirá sin IVA y deduciendo el descuento que se haya obtenido en su compra. Se considerará como coste de lubricante el 10% del coste de combustible
B6: MATRICULA VEHÍCULO | C6: KM RECORRIDOS MINIMO CONCESIONAL | D6: CONSUMO L/100 KM | E6: PROMEDIO PRECIO LITRO GASOIL (SIN IVA Y CON DESCUENTO) | F6: TOTAL EUROS
A7: 1 | B7: =+IF('B - DATOS CONTRATO GESTIÓN'!C244="","",'B - DATOS CONTRATO GESTIÓN'!C244) | C7: =+IF(B7="","",'B - DATOS CONTRATO GESTIÓN'!O244) | D7: =+IF(B7="","",'B - DATOS CONTRATO GESTIÓN'!M244) | F7: =+IF(B7="","",(C7/100)*D7*E7)
A8: 2 | B8: =+IF('B - DATOS CONTRATO GESTIÓN'!C245="","",'B - DATOS CONTRATO GESTIÓN'!C245) | C8: =+IF(B8="","",'B - DATOS CONTRATO GESTIÓN'!O245) | D8: =+IF(B8="","",'B - DATOS CONTRATO GESTIÓN'!M245) | F8: =+IF(B8="","",(C8/100)*D8*E8)
A9: 3 | B9: =+IF('B - DATOS CONTRATO GESTIÓN'!C246="","",'B - DATOS CONTRATO GESTIÓN'!C246) | C9: =+IF(B9="","",'B - DATOS CONTRATO GESTIÓN'!O246) | D9: =+IF(B9="","",'B - DATOS CONTRATO GESTIÓN'!M246) | F9: =+IF(B9="","",(C9/100)*D9*E9)
A10: 4 | B10: =+IF('B - DATOS CONTRATO GESTIÓN'!C247="","",'B - DATOS CONTRATO GESTIÓN'!C247) | C10: =+IF(B10="","",'B - DATOS CONTRATO GESTIÓN'!O247) | D10: =+IF(B10="","",'B - DATOS CONTRATO GESTIÓN'!M247) | F10: =+IF(B10="","",(C10/100)*D10*E10)
A11: 5 | B11: =+IF('B - DATOS CONTRATO GESTIÓN'!C248="","",'B - DATOS CONTRATO GESTIÓN'!C248) | C11: =+IF(B11="","",'B - DATOS CONTRATO GESTIÓN'!O248) | D11: =+IF(B11="","",'B - DATOS CONTRATO GESTIÓN'!M248) | F11: =+IF(B11="","",(C11/100)*D11*E11)
A12: 6 | B12: =+IF('B - DATOS CONTRATO GESTIÓN'!C249="","",'B - DATOS CONTRATO GESTIÓN'!C249) | C12: =+IF(B12="","",'B - DATOS CONTRATO GESTIÓN'!O249) | D12: =+IF(B12="","",'B - DATOS CONTRATO GESTIÓN'!M249) | F12: =+IF(B12="","",(C12/100)*D12*E12)
A13: 7 | B13: =+IF('B - DATOS CONTRATO GESTIÓN'!C250="","",'B - DATOS CONTRATO GESTIÓN'!C250) | C13: =+IF(B13="","",'B - DATOS CONTRATO GESTIÓN'!O250) | D13: =+IF(B13="","",'B - DATOS CONTRATO GESTIÓN'!M250) | F13: =+IF(B13="","",(C13/100)*D13*E13)
A14: 8 | B14: =+IF('B - DATOS CONTRATO GESTIÓN'!C251="","",'B - DATOS CONTRATO GESTIÓN'!C251) | C14: =+IF(B14="","",'B - DATOS CONTRATO GESTIÓN'!O251) | D14: =+IF(B14="","",'B - DATOS CONTRATO GESTIÓN'!M251) | F14: =+IF(B14="","",(C14/100)*D14*E14)
A15: 9 | B15: =+IF('B - DATOS CONTRATO GESTIÓN'!C252="","",'B - DATOS CONTRATO GESTIÓN'!C252) | C15: =+IF(B15="","",'B - DATOS CONTRATO GESTIÓN'!O252) | D15: =+IF(B15="","",'B - DATOS CONTRATO GESTIÓN'!M252) | F15: =+IF(B15="","",(C15/100)*D15*E15)
A16: 10 | B16: =+IF('B - DATOS CONTRATO GESTIÓN'!C253="","",'B - DATOS CONTRATO GESTIÓN'!C253) | C16: =+IF(B16="","",'B - DATOS CONTRATO GESTIÓN'!O253) | D16: =+IF(B16="","",'B - DATOS CONTRATO GESTIÓN'!M253) | F16: =+IF(B16="","",(C16/100)*D16*E16)
A17: 11 | B17: =+IF('B - DATOS CONTRATO GESTIÓN'!C254="","",'B - DATOS CONTRATO GESTIÓN'!C254) | C17: =+IF(B17="","",'B - DATOS CONTRATO GESTIÓN'!O254) | D17: =+IF(B17="","",'B - DATOS CONTRATO GESTIÓN'!M254) | F17: =+IF(B17="","",(C17/100)*D17*E17)
A18: 12 | B18: =+IF('B - DATOS CONTRATO GESTIÓN'!C255="","",'B - DATOS CONTRATO GESTIÓN'!C255) | C18: =+IF(B18="","",'B - DATOS CONTRATO GESTIÓN'!O255) | D18: =+IF(B18="","",'B - DATOS CONTRATO GESTIÓN'!M255) | F18: =+IF(B18="","",(C18/100)*D18*E18)
... A66: 60 | B66: =+IF('B - DATOS CONTRATO GESTIÓN'!C303="","",'B - DATOS CONTRATO GESTIÓN'!C303) | C66: =+IF(B66="","",'B - DATOS CONTRATO GESTIÓN'!O303) | D66: =+IF(B66="","",'B - DATOS CONTRATO GESTIÓN'!M303) | F66: =+IF(B66="","",(C66/100)*D66*E66)
A67: 61 | B67: =+IF('B - DATOS CONTRATO GESTIÓN'!C304="","",'B - DATOS CONTRATO GESTIÓN'!C304) | C67: =+IF(B67="","",'B - DATOS CONTRATO GESTIÓN'!O305) | D67: =+IF(B67="","",'B - DATOS CONTRATO GESTIÓN'!M305) | F67: =+IF(B67="","",(C67/100)*D67*E67)
A68: 62 | B68: =+IF('B - DATOS CONTRATO GESTIÓN'!C305="","",'B - DATOS CONTRATO GESTIÓN'!C305) | C68: =+IF(B68="","",'B - DATOS CONTRATO GESTIÓN'!O306) | D68: =+IF(B68="","",'B - DATOS CONTRATO GESTIÓN'!M306) | F68: =+IF(B68="","",(C68/100)*D68*E68)
A69: 63 | B69: =+IF('B - DATOS CONTRATO GESTIÓN'!C306="","",'B - DATOS CONTRATO GESTIÓN'!C306) | C69: =+IF(B69="","",'B - DATOS CONTRATO GESTIÓN'!O307) | D69: =+IF(B69="","",'B - DATOS CONTRATO GESTIÓN'!M307) | F69: =+IF(B69="","",(C69/100)*D69*E69)
A70: 64 | B70: =+IF('B - DATOS CONTRATO GESTIÓN'!C307="","",'B - DATOS CONTRATO GESTIÓN'!C307) | C70: =+IF(B70="","",'B - DATOS CONTRATO GESTIÓN'!O308) | D70: =+IF(B70="","",'B - DATOS CONTRATO GESTIÓN'!M308) | F70: =+IF(B70="","",(C70/100)*D70*E70)
A71: 65 | B71: =+IF('B - DATOS CONTRATO GESTIÓN'!C308="","",'B - DATOS CONTRATO GESTIÓN'!C308) | C71: =+IF(B71="","",'B - DATOS CONTRATO GESTIÓN'!O309) | D71: =+IF(B71="","",'B - DATOS CONTRATO GESTIÓN'!M309) | F71: =+IF(B71="","",(C71/100)*D71*E71)
A72: 66 | B72: =+IF('B - DATOS CONTRATO GESTIÓN'!C309="","",'B - DATOS CONTRATO GESTIÓN'!C309) | C72: =+IF(B72="","",'B - DATOS CONTRATO GESTIÓN'!O310) | D72: =+IF(B72="","",'B - DATOS CONTRATO GESTIÓN'!M310) | F72: =+IF(B72="","",(C72/100)*D72*E72)
A73: 67 | B73: =+IF('B - DATOS CONTRATO GESTIÓN'!C310="","",'B - DATOS CONTRATO GESTIÓN'!C310) | C73: =+IF(B73="","",'B - DATOS CONTRATO GESTIÓN'!O311) | D73: =+IF(B73="","",'B - DATOS CONTRATO GESTIÓN'!M311) | F73: =+IF(B73="","",(C73/100)*D73*E73)
A74: 68 | B74: =+IF('B - DATOS CONTRATO GESTIÓN'!C311="","",'B - DATOS CONTRATO GESTIÓN'!C311) | C74: =+IF(B74="","",'B - DATOS CONTRATO GESTIÓN'!O312) | D74: =+IF(B74="","",'B - DATOS CONTRATO GESTIÓN'!M312) | F74: =+IF(B74="","",(C74/100)*D74*E74)
A75: 69 | B75: =+IF('B - DATOS CONTRATO GESTIÓN'!C312="","",'B - DATOS CONTRATO GESTIÓN'!C312) | C75: =+IF(B75="","",'B - DATOS CONTRATO GESTIÓN'!O313) | D75: =+IF(B75="","",'B - DATOS CONTRATO GESTIÓN'!M313) | F75: =+IF(B75="","",(C75/100)*D75*E75)
A76: 70 | B76: =+IF('B - DATOS CONTRATO GESTIÓN'!C313="","",'B - DATOS CONTRATO GESTIÓN'!C313) | C76: =+IF(B76="","",'B - DATOS CONTRATO GESTIÓN'!O314) | D76: =+IF(B76="","",'B - DATOS CONTRATO GESTIÓN'!M314) | F76: =+IF(B76="","",(C76/100)*D76*E76)
A77: 71 | B77: =+IF('B - DATOS CONTRATO GESTIÓN'!C314="","",'B - DATOS CONTRATO GESTIÓN'!C314) | C77: =+IF(B77="","",'B - DATOS CONTRATO GESTIÓN'!O315) | D77: =+IF(B77="","",'B - DATOS CONTRATO GESTIÓN'!M315) | F77: =+IF(B77="","",(C77/100)*D77*E77)
A78: 72 | B78: =+IF('B - DATOS CONTRATO GESTIÓN'!C315="","",'B - DATOS CONTRATO GESTIÓN'!C315) | C78: =+IF(B78="","",'B - DATOS CONTRATO GESTIÓN'!O316) | D78: =+IF(B78="","",'B - DATOS CONTRATO GESTIÓN'!M316) | F78: =+IF(B78="","",(C78/100)*D78*E78)
... A86: 80 | B86: =+IF('B - DATOS CONTRATO GESTIÓN'!C323="","",'B - DATOS CONTRATO GESTIÓN'!C323) | C86: =+IF(B86="","",'B - DATOS CONTRATO GESTIÓN'!O324) | D86: =+IF(B86="","",'B - DATOS CONTRATO GESTIÓN'!M324) | F86: =+IF(B86="","",(C86/100)*D86*E86)
B87: TOTAL COMBUSTIBLE | F87: =SUM(F7:F86) -> 0
B88: TOTAL LUBRICANTES (10% COSTE COMBUSTIBLE) | F88: =+F87*0.1 -> 0
B89: TOTAL | F89: =+F88+F87 -> 0
B92: C.2. NEUMÁTICOS
B94: La incidencia del coste en neumáticos se determinará en función del valor de los neumáticos sin IVA y deducido el descuento de la unidad (cubierta con o sin cámara), de la vida útil expresada en kilómetros y de los kilómetros recorridos en la prestación del servicio
B96: MATRICULA VEHÍCULO | C96: KM RECORRIDOS MINIMO CONCESIONAL | D96: TIPO (SERIE) DE NEUMÁTICOS EMPLEADOS | E96: COSTE UNIDAD (SIN IVA Y CON DESCUENTO) | F96: COSTE JUEGO COMPLETO | G96: VIDA ÚTIL (KM) | H96: COSTE EUROS/KM | I96: TOTAL EUROS
A97: 1 | B97: =+B7 | C97: =+C7 | D97: =+IF(B97="","",'B - DATOS CONTRATO GESTIÓN'!L244) | F97: =+IF(C97="","",E97*'B - DATOS CONTRATO GESTIÓN'!K244) | H97: =+IF(C97="","",F97/G97) | I97: =+IF(B97="","",C97*H97)
A98: 2 | B98: =+B8 | C98: =+C8 | D98: =+IF(B98="","",'B - DATOS CONTRATO GESTIÓN'!L245) | F98: =+IF(C98="","",E98*'B - DATOS CONTRATO GESTIÓN'!K245) | H98: =+IF(C98="","",F98/G98) | I98: =+IF(B98="","",C98*H98)
A99: 3 | B99: =+B9 | C99: =+C9 | D99: =+IF(B99="","",'B - DATOS CONTRATO GESTIÓN'!L246) | F99: =+IF(C99="","",E99*'B - DATOS CONTRATO GESTIÓN'!K246) | H99: =+IF(C99="","",F99/G99) | I99: =+IF(B99="","",C99*H99)
A100: 4 | B100: =+B10 | C100: =+C10 | D100: =+IF(B100="","",'B - DATOS CONTRATO GESTIÓN'!L247) | F100: =+IF(C100="","",E100*'B - DATOS CONTRATO GESTIÓN'!K247) | H100: =+IF(C100="","",F100/G100) | I100: =+IF(B100="","",C100*H100)
A101: 5 | B101: =+B11 | C101: =+C11 | D101: =+IF(B101="","",'B - DATOS CONTRATO GESTIÓN'!L248) | F101: =+IF(C101="","",E101*'B - DATOS CONTRATO GESTIÓN'!K248) | H101: =+IF(C101="","",F101/G101) | I101: =+IF(B101="","",C101*H101)
...

Sheet D - INGRESOS
A2: D. INGRESOS PERIODO DE JUNIO A DICIEMBRE DE 2021
A4: INGRESOS BILLETES VIAJEROS EXPEDICIONES MÍNIMO CONCESIONAL
A5: INGRESOS BILLETES VIAJEROS EXPEDICIONES SUPLEMENTARIAS
A6: INGRESOS RESERVA DE PLAZA DE ESCOLARES (EXP. MÍNIMO CONCESIONAL)
A7: INGRESOS RESERVA DE PLAZA DE ESCOLARES (EXP. SUPLEMENTARIAS)
A8: INGRESOS EQUIPAJES Y PAQUETERÍA (EXP. MÍNIMO CONCESIONAL)
A9: INGRESOS EQUIPAJES Y PAQUETERÍA (EXP. SUPLEMENTARIAS)
A10: OTROS INGRESOS
A12: TOTAL INGRESOS | B12: =SUM(B4:B10) -> 0

Sheet E - ANÁLISIS ECONÓMICO
A2: E. ANÁLISIS ECONÓMICO DE LA PRESTACIÓN DEL SERVICIO. MÍNIMO CONCESIONAL DE JUNIO A DICIEMBRE 2021
A4: PRESTADOR | B4: ='A - DATOS GENERALES'!B4 -> 0
A5: SERVICIO PÚBLICO REGULAR DE USO GENERAL | B5: =+'B - DATOS CONTRATO GESTIÓN'!C4 -> 0
A6: NOMBRE SERVICIO | B6: =+'B - DATOS CONTRATO GESTIÓN'!C5 -> 0
A8: KILÓMETROS SERVICIO DE JUNIO A DICIEMBRE 2021 (MINIMO CONCESIONAL) | B8: =+'B - DATOS CONTRATO GESTIÓN'!H819 -> 0
A11: COSTES
C12: %
A13: COMBUSTIBLES Y LUBRICANTES | B13: =+'C - COSTES DE LA EXPLOTACIÓN'!F89 -> 0 | C13: =+B13/$B$24 -> #DIV/0!
A14: NEUMÁTICOS | B14: =+'C - COSTES DE LA EXPLOTACIÓN'!I177 -> 0 | C14: =+B14/$B$24 -> #DIV/0!
A15: REPARACIONES Y CONSERVACIÓN | B15: =+'C - COSTES DE LA EXPLOTACIÓN'!E264 -> 0 | C15: =+B15/$B$24 -> #DIV/0!
A16: PERSONAL DE CONDUCCIÓN | B16: =+'C - COSTES DE LA EXPLOTACIÓN'!J472 -> 0 | C16: =+B16/$B$24 -> #DIV/0!
A17: DIETAS DEL PERSONAL DE CONDUCCIÓN | B17: =+'C - COSTES DE LA EXPLOTACIÓN'!I473 -> 0 | C17: =+B17/$B$24 -> #DIV/0!
A18: AMORTIZACIÓN | B18: =+'C - COSTES DE LA EXPLOTACIÓN'!K1179 -> 0 | C18: =+B18/$B$24 -> #DIV/0!
A19: FINANCIACIÓN | B19: =+'C - COSTES DE LA EXPLOTACIÓN'!H1267 -> 0 | C19: =+B19/$B$24 -> #DIV/0!
A20: SEGUROS | B20: =+'C - COSTES DE LA EXPLOTACIÓN'!I1355 -> 0 | C20: =+B20/$B$24 -> #DIV/0!
A21: IMPUESTOS Y TASAS | B21: =+'C - COSTES DE LA EXPLOTACIÓN'!I1443 -> 0 | C21: =+B21/$B$24 -> #DIV/0!
A22: GASTOS GENERALES DE LA EMPRESA | B22: =+'C - COSTES DE LA EXPLOTACIÓN'!C1502 -> #DIV/0! | C22: =+B22/$B$24 -> #DIV/0!
A24: TOTAL COSTES DE JUNIO A DICIEMBRE 2021 (MINIMO CONCESIONAL) | B24: =SUM(B13:B22) -> #DIV/0! | C24: =SUM(C13:C22) -> #DIV/0!
A27: INGRESOS
A29: INGRESOS BILLETES VIAJEROS EXPEDICIONES (MÍNIMO CONCESIONAL) | B29: =+'D - INGRESOS'!B4 -> 0
A30: INGRESOS RESERVA DE PLAZA DE ESCOLARES (MÍNIMO CONCESIONAL) | B30: =+'D - INGRESOS'!B6 -> 0
A31: INGRESOS EQUIPAJES Y PAQUETERIA (MÍNIMO CONCESIONAL) | B31: =+'D - INGRESOS'!B8 -> 0
A32: OTROS INGRESOS | B32: =+'D - INGRESOS'!B10 -> 0
A34: TOTAL INGRESOS DE JUNIO A DICIEMBRE 2021 (MINIMO CONCESIONAL) | B34: =+B29+B30+B31+B32 -> 0
A37: RESULTADO ECONÓMICO DE LA CONCESIÓN
A38: COSTES DE JUNIO A DICIEMBRE 2021 | B38: =+B24 -> #DIV/0!
A39: INGRESOS DE JUNIO A DICIEMBRE 2021 | B39: =+B34 -> 0
A40: DÉFICIT DE JUNIO A DICIEMBRE 2021 | B40: =+B38-B39 -> #DIV/0!

Sheet F - DOCUMENTOS JUSTIFICANTES
A2: F. DOCUMENTACIÓN JUSTIFICANTE
A4: Junto con la memoria, la persona solicitante aportará los justificantes que se relacionan a continuación, sin perjuicio de que la Dirección General de Transportes pueda requerir documentación justificativa adicional y de la aportación por el solicitante de cualquiera otra que considere de interés:
A6: - Justificantes de las subvenciones recibidas por la prestación de servicio. - Justificantes de las subvenciones recibidas por las plazas reservadas para transporte escolar durante los meses de junio a diciembre de 2021. - Facturas de los costes de combustible, neumáticos y mantenimiento durante los meses de junio a diciembre de 2021 por la prestación del servicio para el que solicita la subvención. - Justificante de los costes salariales del personal de conducción: Nóminas, documentos de cotización, justificante de pago de cuotas por el régimen especial de autónomos, convenio laboral. - Facturas de adquisición de los vehículos sobre los que se imputan costes de amortización, plan de amortización, justificantes de subvenciones recibidas para la adquisición de los mismos. - Justificante los gastos financieros, pólizas de créditos y/o préstamos directamente vinculados a cada vehículo en el periodo de junio a diciembre de 2021. - Primas de seguros devengadas en el periodo de junio a diciembre de 2021 y documento justificativo de pago. - Justificante de los impuestos y tasas para cada vehículo devengados y contabilizados en el periodo de junio a diciembre de 2021 referenciados en el apartado B de esta memoria. - Justificante de los ingresos por billete de viajeros, equipajes y paquetería obtenidos durante los meses de junio a diciembre de 2021 Y reseñados en el apartado D de esta memoria y para el que solicita la subvención. - Archivo con la información de los discos-diagrama del primer y último día de servicio de los vehículos que realizan el servicio objeto de subvención. - En el caso de vehículos con tacógrafo digital, fichero que contenga el volcado de los datos almacenados en la memoria del tacógrafo y en la memoria de la tarjeta del conductor o conductores de los vehículos con los que se haya prestado el servicio.

Sheet CONTROL
A1: KM RECORRIDOS TOTALES CONCESIÓN | D1: KM RECORRIDOS (MINIMO CONCESIONAL)
A3: KM SERVICIO TABLA B.4. VEHICULOS | B3: =+'B - DATOS CONTRATO GESTIÓN'!O324+'B - DATOS CONTRATO GESTIÓN'!P324 -> 0 | D3: KM SERVICIO TABLA B.4. VEHICULOS | E3: =+'B - DATOS CONTRATO GESTIÓN'!O324 -> 0
A4: KM SERVICIO TABLA B.6. KM RECORRIDOS | B4: =+'B - DATOS CONTRATO GESTIÓN'!O819 -> 0 | D4: KM SERVICIO TABLA B.6. KM RECORRIDOS | E4: =+'B - DATOS CONTRATO GESTIÓN'!H819 -> 0
B5: =+IF(B3=B4,"OK","NO CUADRA") -> OK | E5: =+IF(E3=E4,"OK","NO CUADRA") -> OK
A7: HORAS IMPUTADAS AL CONTRATO TOTALES | D7: HORAS IMPUTADAS AL CONTRATO (MINIMO CONCESIONAL)
A9: HORAS EJECUCION SERVICIO TABLA B.5. | B9: =+'B - DATOS CONTRATO GESTIÓN'!K601 -> 0 | D9: HORAS EJECUCION SERVICIO TABLA B.5. | E9: =+'B - DATOS CONTRATO GESTIÓN'!I601 -> 0
A10: HORAS COMPLEMENTARIAS SERVICIO TABLA B.5. | B10: =+'B - DATOS CONTRATO GESTIÓN'!K709 -> 0 | D10: HORAS COMPLEMENTARIAS SERVICIO TABLA B.5. | E10: =+'B - DATOS CONTRATO GESTIÓN'!I709 -> 0
A11: SUMA | B11: =SUM(B9:B10) -> 0 | D11: SUMA | E11: =SUM(E9:E10) -> 0
A12: HORAS IMPUTADAS TABLA C.4. | B12: =+'C - COSTES DE LA EXPLOTACIÓN'!E472 -> 0 | D12: HORAS IMPUTADAS TABLA C.4. | E12: =+'C - COSTES DE LA EXPLOTACIÓN'!F472 -> 0
B13: =+IF(B9+B10=B12,"OK","NO CUADRA") -> OK | E13: =+IF(E9+E10=E12,"OK","NO CUADRA") -> OK
