Workbook

Sheet AYUDA-INSTRUCCIONES
P2: PORTADA
J8: RELLENE LOS CAMPOS EN BLANCO: NOMBRE o R. SOCIAL, NIF, TITULO DEL PROYECTO, LOCALIZACIÓN Y Nº EXPEDIENTE, SI SE HA ASIGNADO. EL RESTO DE CAMPOS SON AUTORRELLENABLES
P31: INVERSIONES Y OFERTAS (1,2,3)
A54: RELLENE TODOS LOS CAMPOS EN BLANCO DE ACUERDO A LAS SIGUIENTES OBSERVACIONES:
A55: CÓDIGO INVERSIÓN: | B55: INVERSIONES A REALIZAR, NUMERADAS CORRELATIVAMENTE :
B56: 1. OBRA CIVIL: (1.x) Construcción, adquisición o mejora.
B57: 2. INSTALACIONES: Compra de nueva maquinaria y equipo: Clasificado por tipo 2.1.x/2.2.x/2.3.x/2.4.x/2.5.x
B58: 3. HONORARIOS Y GASTOS GENERALES: Vinculados a gastos 1 y 2, con un límite del 12% sobre los mismos.
A59: UNIDADES: | B59: Unidades homogéneas de acuerdo a la petición de oferta. | G59: Obra Civil: En m2 o ml de acuerdo a las mediciones de los conceptos de inversión.
G60: Inversiones: Unidades, capacidades, rendimientos.
A61: FECHA PETICIÓN OFERTA: | B61: Fecha de la petición de la oferta al proveedor
A62: PROVEEDOR: | B62: Nombre del proveedor
B63: Inversiones >40.000€ Obra Civil y >15.000€ en Suministros y Servicios. 3 OFERTAS DE PROVEEDORES DISTINTOS
B64: Inversiones <40.000€ Obra Civil y <15.000€ en Suministros y Servicios. MÍNIMO 1 OFERTA, RELLENAR AL MENOS PROVEEDOR 1
A65: OFERTA ELEGIDA: | B65: Nombre del archivo aportado, en formato PDF, con la/s oferta/s por cada concepto de gasto. (Según nombre predeterminado en la tabla, de acuerdo al código de inversión)
B66: El PDF incluirá la petición de oferta y la oferta u ofertas, en caso de requerir 3
A67: JUST. TÉC. DE LA OFERTA: | B67: Nombre del archivo aportado, en formato PDF,
B68: En caso de justificación técnica externa fehaciente al no elegir la oferta económica más ventajosa o exclusividad.
A69: OTRA DOCUMENTACIÓN: | B69: Sólo en el caso: 1. Obra Civil
B70: Nombe del archivo aportado, en formato PDF, en caso de requerir: solicitudes de licencias y/o permisos/proyecto/memoria valorada.
P76: LÍMITES
A108: RELLENE TODOS LOS CAMPOS EN BLANCO DE ACUERDO A LAS SIGUIENTES OBSERVACIONES:
A109: URBANIZACIÓN:
A110: Explanación y urbanización: Indicar, en m2, la superficie de explanación y firmes, el presupuesto de la partida en € y el código de inv. (de la hoja 1 Obra Civil) que la incluye.
A111: Cierres Perimetrales: Indicar, en metros lineales, el perimetro de vallado, incluyendo elementos singulares, el presupuesto de la partida en € y el código de inv. (de la hoja 1 Obra Civil) que la incluye.
A112: NUEVAS CONSTRUCCIONES Y AMPLIACIONES DE LAS YA EXISTENTES:
A113: Indicar, en m2, la superficie de nueva construcción destinada a cada fin, el presupuesto de la partida en € y el código de inv. (de la hoja 1 Obra Civil) que la incluye.
A114: En el caso de almacenamiento vertical sobre planta, > a 6 metros, (silos, celdas de almacenamiento …) indicar la altura total (1ª planta + almacenamiento) de la edificación.
A115: TOTAL SUPERFICIE CONSTRUIDA EN PLANTA: Indicar el total de las superficies anteriores.
A116: EDIFICACIONES EXISTENTES:
A117: SUPERFICIE TOTAL CONSTRUIDA (Antes de solicitud): Indicar, en m2, la superficie total construida anterior a la solicitud, sin incluir las nuevas superficies proyectadas pero si las que vayan a ser reformadas.
A118: ACONDICIONAMIENTO SOLICITADO (Superficie útil): Indicar, en m2, la superficie útil que va a ser acondicionada o reformada.
P124: RESUMEN (En caso necesario)
P147: IR A PORTADA >>>
A150: EN CASO DE DIVIDIR CADA INVERSIÓN EN VARIAS PARTIDAS PRESUPUESTARIAS Y PRESENTAR UN ELEVADO NÚMERO DE CODIGOS DE INVERSIÓN, INDIQUE LA INVERSIÓN A LA QUE CORRESPONDEN SEGÚN ESTE EJEMPLO.
A152: 1.OBRA CIVIL
A153: Indicar el concepto de inversión y los códigos de inversión de las diferentes partidas en que está dividida (en la hoja 1 Obra Civil).
A154: 2.INVERSIONES
A155: Indicar el concepto de inversión y los códigos de inversión de las diferentes partidas en que está dividida (en la hoja 2inversiones).

Sheet PORTADA
E1: IndoferV2.20
A2: RELACIÓN DE OFERTAS
A3: (A.7 del ANEXO A)
A4: Subvención para inversiones en transformación, comercialización y desarrollo de productos agrícolas (Industrias Agroalimentarias)
A6: NOMBRE o RAZÓN SOCIAL:
A8: NIF:
A10: TITULO DEL PROYECTO:
A12: LOCALIZACIÓN: (Municipio / Provincia)
A14: Nº EXPEDIENTE:
A16: IR >>> 1.- PRESUPUESTO OBRA CIVIL | D16: ='1.OBRA CIVIL'!L45 -> 0
A18: IR >>> 2.- PRESUPUESTO INSTALACIONES: | D18: ='2.INSTALACIONES'!L105 -> 0
A20: IR>>> 3.- PRESUPUESTO GASTOS GENERALES: | D20: ='3.HONORARIOS Y GG (12%)'!L20 -> 0 | E20: =IF(D20>0.12*(D16+D18),"Supera 12% (O.Civil+Inversiones)","Cumple 12%") -> Cumple 12%
A22: TOTAL PRESUPUESTADO: | D22: =SUM(D16+D18+D20) -> 0
D24: << IR A AYUDA >> | E24: SIGUIENTE PESTAÑA >>>
A26: El órgano responsable del tratamiento de los datos de carácter personal es la Secretaria General Técnica del Departamento de Agricultura, Ganadería y Medio Ambiente. Dichos datos serán tratados con el fin exclusivo de la gestión de los procedimientos administrativos, incluido el económico-financiero, relacionados con las ayudas solicitadas por los interesados, así como, en su caso, la realización de estudios y estadísticas. La licitud del tratamiento de sus datos es en ejercicio de un interés legal aplicable al responsable del tratamiento conforme al artículo 6.c) del Reglamento General de Protección de Datos y el artículo 8 de la Ley Orgánica 3/2018, de 5 de diciembre, de Protección de Datos Personales y garantía de los Derechos digitales. No se comunicarán datos a terceros, salvo obligación legal. Podrá ejercer sus derechos de acceso, rectificación, supresión y portabilidad de sus datos, de limitación y oposición a su tratamiento, de conformidad con lo dispuesto en el Reglamento General de Protección de Datos, ante la Secretaría General Técnica del Departamento de Agricultura, Ganadería y Medio Ambiente, Plaza San Pedro Nolasco 7, 50071 Zaragoza, y obtener información en el 5213@aragon.es. Podrá consultar información adicional y detallada en el Registro de Actividades de Tratamiento del Gobierno de Aragón, “SISTEMA DE AYUDAS FONDOS EUROPEOS GESTIONADOS ORGANISMO PAGADOR”, https://aplicaciones.aragon.es/notif_lopd_pub/details.action?fileId=99

Sheet 1.OBRA CIVIL
A1: MODERACIÓN COSTES INDUSTRIAS (SP)
A3: RELACIÓN DE OFERTAS OBRA CIVIL
B5: NIF | C5: =PORTADA!D8 -> 0 | E5: EMPRESA: | F5: =PORTADA!D6 -> 0 | I5: Nº EXPEDIENTE: | J5: =PORTADA!D14 -> 0 | N5: SIGUIENTE PESTAÑA >>>
A7: 1.- OBRA CIVIL
A8: CÓD. INV. | B8: CONCEPTO DE INVERSIÓN | C8: UNIDADES (m2, ml) | D8: FECHA PETICIÓN OFERTA | E8: PROVEEDOR 1 | F8: IMPORTE 1 | G8: PROVEEDOR 2 | H8: IMPORTE 2 | I8: PROVEEDOR 3 | J8: IMPORTE 3 | K8: OFERTA ELEGIDA (1,2,3) | L8: IMPORTE ELEGIDO | M8: NOMBRE DEL ARCHIVO APORTADO (PDF)
M9: OFERTAS | N9: JUSTIFICACIÓN TÉCNICA DE LA OFERTA SI NO PRESENTA TRES o NO ELIGE LA MÁS ECONÓMICA | O9: OTRA DOCUMENTACIÓN: SOL. LICENCIA, PROY. TÉCNICO o MEM. VALORADA
A10: 1.1 | M10: oferta1.1.pdf
A11: 1.2 | M11: oferta1.2.pdf
A12: 1.3 | M12: oferta1.3.pdf
A13: 1.4 | M13: oferta1.4.pdf
A14: 1.5 | M14: oferta1.5.pdf
A15: 1.6 | M15: oferta1.6.pdf
A16: 1.7 | M16: oferta1.7.pdf
A17: 1.8 | M17: oferta1.8.pdf
A18: 1.9 | M18: oferta1.9.pdf
A19: 1.10 | M19: oferta1.10.pdf
A20: 1.11 | M20: oferta1.11.pdf
A21: 1.12 | M21: oferta1.12.pdf
... A44: 1.35 | M44: oferta1.35.pdf
I45: TOTAL 1.-OBRA CIVIL: | L45: =SUM(L10:L44) -> 0

Sheet 2.INSTALACIONES
A1: MODERACIÓN COSTES INDUSTRIAS (SP)
A3: RELACIÓN DE OFERTAS INSTALACIONES
B5: NIF | C5: =PORTADA!D8 -> 0 | E5: EMPRESA: | F5: =PORTADA!D6 -> 0 | I5: Nº EXPEDIENTE: | J5: =PORTADA!D14 -> 0 | N5: SIGUIENTE PESTAÑA >>>
A7: 2.- INSTALACIONES
A8: CÓD. INV. | B8: CONCEPTO DE INVERSIÓN | C8: UNIDADES o CAPACIDADES | D8: FECHA PETICIÓN OFERTA | E8: PROVEEDOR 1 | F8: IMPORTE 1 | G8: PROVEEDOR 2 | H8: IMPORTE 2 | I8: PROVEEDOR 3 | J8: IMPORTE 3 | K8: OFERTA ELEGIDA (1,2,3) | L8: IMPORTE ELEGIDO | M8: NOMBRE DEL ARCHIVO APORTADO (PDF)
M9: OFERTAS | N9: JUSTIFICACIÓN TÉCNICA DE LA OFERTA SI NO PRESENTA TRES o NO ELIGE LA MÁS ECONÓMICA
A10: 2.1.- TRANSFORMACIÓN ELABORACIÓN Y CONSERVACIÓN: | K10: TOTAL 2.1: | L10: =SUM(L11:L50) -> 0
A11: 2.1.1 | M11: oferta2.1.1.pdf
A12: 2.1.2 | M12: oferta2.1.2.pdf
A13: 2.1.3 | M13: oferta2.1.3.pdf
A14: 2.1.4 | M14: oferta2.1.4.pdf
A15: 2.1.5 | M15: oferta2.1.5.pdf
A16: 2.1.6 | M16: oferta2.1.6.pdf
A17: 2.1.7 | M17: oferta2.1.7.pdf
A18: 2.1.8 | M18: oferta2.1.8.pdf
A19: 2.1.9 | M19: oferta2.1.9.pdf
A20: 2.1.10 | M20: oferta2.1.10.pdf
A21: 2.1.11 | M21: oferta2.1.11.pdf
A22: 2.1.12 | M22: oferta2.1.12.pdf
... A50: 2.1.40 | M50: oferta2.1.40.pdf
A51: 2.2.- VEHICULOS DE TRASPORTE INTERNO | K51: TOTAL 2.2: | L51: =SUM(L52:L61) -> 0
A52: 2.2.1 | M52: oferta2.2.1.pdf
A53: 2.2.2 | M53: oferta2.2.2.pdf
A54: 2.2.3 | M54: oferta2.2.3.pdf
A55: 2.2.4 | M55: oferta2.2.4.pdf
A56: 2.2.5 | M56: oferta2.2.5.pdf
A57: 2.2.6 | M57: oferta2.2.6.pdf
A58: 2.2.7 | M58: oferta2.2.7.pdf
A59: 2.2.8 | M59: oferta2.2.8.pdf
A60: 2.2.9 | M60: oferta2.2.9.pdf
A61: 2.2.10 | M61: oferta2.2.10.pdf
A62: 2.3.- MEDIO AMBIENTE | K62: TOTAL 2.3: | L62: =SUM(L63:L77) -> 0
A63: 2.3.1 | M63: oferta2.3.1.pdf
A64: 2.3.2 | M64: oferta2.3.2.pdf
A65: 2.3.3 | M65: oferta2.3.3.pdf
A66: 2.3.4 | M66: oferta2.3.4.pdf
A67: 2.3.5 | M67: oferta2.3.5.pdf
A68: 2.3.6 | M68: oferta2.3.6.pdf
A69: 2.3.7 | M69: oferta2.3.7.pdf
A70: 2.3.8 | M70: oferta2.3.8.pdf
...

Sheet 3.HONORARIOS Y GG (12%)
A1: MODERACIÓN COSTES INDUSTRIAS (SP)
A3: RELACIÓN DE OFERTAS HONORARIOS Y GASTOS GENERALES
B5: NIF | C5: =PORTADA!D8 -> 0 | E5: EMPRESA: | F5: =PORTADA!D6 -> 0 | I5: Nº EXPEDIENTE: | J5: =PORTADA!D14 -> 0 | N5: LIMITES >>>
A7: 3.- HONORARIOS Y GASTOS GENERALES
A8: CÓD. INV. | B8: CONCEPTO DE INVERSIÓN | C8: UNIDADES | D8: FECHA PETICIÓN OFERTA | E8: PROVEEDOR 1 | F8: IMPORTE 1 | G8: PROVEEDOR 2 | H8: IMPORTE 2 | I8: PROVEEDOR 3 | J8: IMPORTE 3 | K8: OFERTA ELEGIDA (1,2,3) | L8: IMPORTE ELEGIDO | M8: NOMBRE DEL ARCHIVO APORTADO (PDF)
M9: OFERTAS | N9: JUSTIFICACIÓN TÉCNICA DE LA OFERTA SI NO PRESENTA TRES o NO ELIGE LA MÁS ECONÓMICA
A10: 3.1 | M10: oferta3.1.pdf
A11: 3.2 | M11: oferta3.2.pdf
A12: 3.3 | M12: oferta3.3.pdf
A13: 3.4 | M13: oferta3.4.pdf
A14: 3.5 | M14: oferta3.5.pdf
A15: 3.6 | M15: oferta3.6.pdf
A16: 3.7 | M16: oferta3.7.pdf
A17: 3.8 | M17: oferta3.8.pdf
A18: 3.9 | M18: oferta3.9.pdf
A19: 3.10 | M19: oferta3.10.pdf
I20: TOTAL 3.-HONORARIOS Y GG: | L20: =SUM(L10:L19) -> 0

Sheet LIMITES
F2: SIGUIENTE >>>
F3: <<IR A AYUDA>>
B5: RESUMEN DE LAS ACTUACIONES EN OBRA CIVIL LIMITADAS POR EL ANEXO III
B7: TRABAJOS | C7: UNIDAD | D7: MEDICIÓN | E7: PRESUPUESTO | F7: CÓD. INVERSIÓN O.CIVIL
B8: URBANIZACIÓN | E8: VALOR EN € | F8: DÓNDE SE INCLUYE (1.X)
B9: Explanación y urbanización (incluye pavimentación) | C9: m2
B10: Cierres perimetrales | C10: ml
B11: NUEVA CONSTRUCCIÓN Y AMPLIACIONES
B12: Construcciones de transformación y/o elaboración | C12: m2
B13: Construcciones de almacenamiento: Superficie | C13: m2
B14: *Construcciones de almacenamiento: Altura total | C14: m | E14: *Rellenar sólo cuando exista almacenamiento en altura sobre planta baja
B15: Construcciones de servicios y oficinas | C15: m2
B16: Otras construcciones | C16: m2
B17: TOTAL SUPERFICIE CONSTRUIDA EN PLANTA: | C17: m2 | D17: =SUM(D12:D16) -> 0 | E17: =SUM(E16,E15,E13,E12) -> 0
B18: EDIFICACIONES EXISTENTES
B19: SUPERFICIE TOTAL CONSTRUIDA (Antes de solicitud) | C19: m2
B20: ACONDICIONAMIENTO SOLICITADO (Superficie útil) | C20: m2

Sheet RESUMEN
E2: <<< INICIO
E3: <<IR A AYUDA>>
B4: ACLARACIÓN RESUMEN DE LAS ACTUACIONES EN OBRA CIVIL O INSTALACIONES
B5: EN CASO DE DESGLOSAR LAS INVERSIONES EN DISTINTAS PARTIDAS PRESUPUESTARIAS Y PRESENTAR ELEVADO Nº DE CÓDIGOS DE INVERSIÓN, RESUMIR DE ACUERDO A LA TABLA:
B7: NOMBRE INVERSIÓN | C7: CÓDIGOS DE INVERSIÓN QUE INCLUYE | D7: OBSERVACIONES
B8: 1. OBRA CIVIL
B19: 2. INSTALACIONES
