Workbook

Sheet A - DATOS GENERALES
A2: A. DATOS GENERALES
A4: EMPRESA
A5: DOMICILIO
A6: POBLACIÓN
A7: CÓDIGO POSTAL
A8: CIF
A9: TELÉFONO DE CONTACTO (FIJO)
A10: TELÉFONO DE CONTACTO (MÓVIL)
A11: CORREO ELECTRÓNICO
A12: PÁGINA WEB

Sheet B - DATOS CONTRATO GESTIÓN
B2: B.1. DATOS GENERALES
B4: CONTRATO PARA EL QUE SE SOLICITA SUBVENCIÓN
B5: NOMBRE DEL CONTRATO
B7: B.2. ITINERARIOS
B9: Se detallarán en el cuadro adjunto los itinerarios que se realizan, indicando la distancia total de cada ruta.
B11: NOMBRE RUTA | C11: ORIGEN | D11: DESTINO | E11: KM RUTA
A12: 1
A13: 2
A14: 3
A15: 4
A16: 5
A17: 6
A18: 7
A19: 8
A20: 9
A21: 10
A22: 11
A23: 12
... A71: 60
B73: B.3. PERSONAL DE CONDUCCIÓN
B75: Se relacionarán los conductores empleados en el servicio regular indicando lugar de residencia de los mismos
B77: CONDUCTOR (APELLIDOS Y NOMBRE) | C77: DNI/NIE | D77: LUGAR DE RESIDENCIA
A78: 1
A79: 2
A80: 3
A81: 4
A82: 5
A83: 6
A84: 7
A85: 8
A86: 9
A87: 10
A88: 11
A89: 12
... A277: 200
B279: B.4. VEHÍCULOS UTILIZADOS
B281: Se deberán incluir los datos de todos los vehículos utilizados en la prestación del contrato de gestión durante los meses de agosto de 2022 a enero de 2024
B283: Nº VEHÍCULO | C283: MATRICULA | D283: FECHA DE MATRICULACIÓN | E283: FECHA DE ADQUISICIÓN | F283: FECHA DE ADSCRIPCIÓN AL SERVICIO REGULAR | G283: MARCA Y MODELO DE CARROCERÍA | H283: MARCA Y MODELO DE MOTOR | I283: POTENCIA FISCAL | J283: NÚMERO DE ASIENTOS (INCLUIDO CONDUCTOR) | K283: NÚMERO DE NEUMÁTICOS | L283: TIPO (SERIE) DE NEUMÁTICOS EMPLEADOS | M283: CONSUMO DE COMBUSTIBLE (L/100 KM) | N283: KM RECORRIDOS TOTALES DE AGOSTO DE 2022 A ENERO DE 2024 | O283: KM RECORRIDOS EN SERVICIO (MINIMO CONCESIONAL) DE AGOSTO DE 2022 A ENERO DE 2024 | P283: KM RECORRIDOS EN SERVICIO RESTO EXPEDICIONES SUPLEMENTARIAS DE AGOSTO DE 2022 A ENERO DE 2024 | Q283: % KM MINIMO CONCESIONAL SOBRE TOTAL KM RECORRIDOS | R283: % KM TOTAL CONCESION SOBRE TOTAL KM RECORRIDOS
A284: 1 | Q284: =+IF(D284="","",O284/N284) | R284: =+IF(D284="","",(O284+P284)/N284)
A285: 2 | Q285: =+IF(D285="","",O285/N285) | R285: =+IF(D285="","",(O285+P285)/N285)
...

Sheet C - COSTES DE LA EXPLOTACIÓN
B2: C.1. COMBUSTIBLE Y LUBRICANTES
B4: Se determinará en función de los kilómetros recorridos por cada vehiculo adscrito. El coste del combustible se incluirá sin IVA y deduciendo el descuento que se haya obtenido en su compra. Se considerará como coste de lubricante el 10% del coste de combustible
B6: MATRICULA VEHÍCULO | C6: KM RECORRIDOS MINIMO CONCESIONAL | D6: CONSUMO L/100 KM | E6: PROMEDIO PRECIO LITRO GASOIL (SIN IVA Y CON DESCUENTO) | F6: TOTAL EUROS
A7: 1 | B7: =+IF('B - DATOS CONTRATO GESTIÓN'!C284="","",'B - DATOS CONTRATO GESTIÓN'!C284) | C7: =+IF(B7="","",'B - DATOS CONTRATO GESTIÓN'!O284) | D7: =+IF(B7="","",'B - DATOS CONTRATO GESTIÓN'!M284) | F7: =+IF(B7="","",(C7/100)*D7*E7)
A8: 2 | B8: =+IF('B - DATOS CONTRATO GESTIÓN'!C285="","",'B - DATOS CONTRATO GESTIÓN'!C285) | C8: =+IF(B8="","",'B - DATOS CONTRATO GESTIÓN'!O285) | D8: =+IF(B8="","",'B - DATOS CONTRATO GESTIÓN'!M285) | F8: =+IF(B8="","",(C8/100)*D8*E8)
A9: 3 | B9: =+IF('B - DATOS CONTRATO GESTIÓN'!C286="","",'B - DATOS CONTRATO GESTIÓN'!C286) | C9: =+IF(B9="","",'B - DATOS CONTRATO GESTIÓN'!O286) | D9: =+IF(B9="","",'B - DATOS CONTRATO GESTIÓN'!M286) | F9: =+IF(B9="","",(C9/100)*D9*E9)
A10: 4 | B10: =+IF('B - DATOS CONTRATO GESTIÓN'!C287="","",'B - DATOS CONTRATO GESTIÓN'!C287) | C10: =+IF(B10="","",'B - DATOS CONTRATO GESTIÓN'!O287) | D10: =+IF(B10="","",'B - DATOS CONTRATO GESTIÓN'!M287) | F10: =+IF(B10="","",(C10/100)*D10*E10)
A11: 5 | B11: =+IF('B - DATOS CONTRATO GESTIÓN'!C288="","",'B - DATOS CONTRATO GESTIÓN'!C288) | C11: =+IF(B11="","",'B - DATOS CONTRATO GESTIÓN'!O288) | D11: =+IF(B11="","",'B - DATOS CONTRATO GESTIÓN'!M288) | F11: =+IF(B11="","",(C11/100)*D11*E11)
A12: 6 | B12: =+IF('B - DATOS CONTRATO GESTIÓN'!C289="","",'B - DATOS CONTRATO GESTIÓN'!C289) | C12: =+IF(B12="","",'B - DATOS CONTRATO GESTIÓN'!O289) | D12: =+IF(B12="","",'B - DATOS CONTRATO GESTIÓN'!M289) | F12: =+IF(B12="","",(C12/100)*D12*E12)
A13: 7 | B13: =+IF('B - DATOS CONTRATO GESTIÓN'!C290="","",'B - DATOS CONTRATO GESTIÓN'!C290) | C13: =+IF(B13="","",'B - DATOS CONTRATO GESTIÓN'!O290) | D13: =+IF(B13="","",'B - DATOS CONTRATO GESTIÓN'!M290) | F13: =+IF(B13="","",(C13/100)*D13*E13)
A14: 8 | B14: =+IF('B - DATOS CONTRATO GESTIÓN'!C291="","",'B - DATOS CONTRATO GESTIÓN'!C291) | C14: =+IF(B14="","",'B - DATOS CONTRATO GESTIÓN'!O291) | D14: =+IF(B14="","",'B - DATOS CONTRATO GESTIÓN'!M291) | F14: =+IF(B14="","",(C14/100)*D14*E14)
A15: 9 | B15: =+IF('B - DATOS CONTRATO GESTIÓN'!C292="","",'B - DATOS CONTRATO GESTIÓN'!C292) | C15: =+IF(B15="","",'B - DATOS CONTRATO GESTIÓN'!O292) | D15: =+IF(B15="","",'B - DATOS CONTRATO GESTIÓN'!M292) | F15: =+IF(B15="","",(C15/100)*D15*E15)
A16: 10 | B16: =+IF('B - DATOS CONTRATO GESTIÓN'!C293="","",'B - DATOS CONTRATO GESTIÓN'!C293) | C16: =+IF(B16="","",'B - DATOS CONTRATO GESTIÓN'!O293) | D16: =+IF(B16="","",'B - DATOS CONTRATO GESTIÓN'!M293) | F16: =+IF(B16="","",(C16/100)*D16*E16)
A17: 11 | B17: =+IF('B - DATOS CONTRATO GESTIÓN'!C294="","",'B - DATOS CONTRATO GESTIÓN'!C294) | C17: =+IF(B17="","",'B - DATOS CONTRATO GESTIÓN'!O294) | D17: =+IF(B17="","",'B - DATOS CONTRATO GESTIÓN'!M294) | F17: =+IF(B17="","",(C17/100)*D17*E17)
A18: 12 | B18: =+IF('B - DATOS CONTRATO GESTIÓN'!C295="","",'B - DATOS CONTRATO GESTIÓN'!C295) | C18: =+IF(B18="","",'B - DATOS CONTRATO GESTIÓN'!O295) | D18: =+IF(B18="","",'B - DATOS CONTRATO GESTIÓN'!M295) | F18: =+IF(B18="","",(C18/100)*D18*E18)
... A86: 80 | B86: =+IF('B - DATOS CONTRATO GESTIÓN'!C363="","",'B - DATOS CONTRATO GESTIÓN'!C363) | C86: =+IF(B86="","",'B - DATOS CONTRATO GESTIÓN'!O363) | D86: =+IF(B86="","",'B - DATOS CONTRATO GESTIÓN'!M363) | F86: =+IF(B86="","",(C86/100)*D86*E86)
B87: TOTAL COMBUSTIBLE | F87: =SUM(F7:F86) -> 0
B88: TOTAL LUBRICANTES (10% COSTE COMBUSTIBLE) | F88: =+F87*0.1 -> 0
B89: TOTAL | F89: =+F88+F87 -> 0
B92: C.2. NEUMÁTICOS
B94: La incidencia del coste en neumáticos se determinará en función del valor de los neumáticos sin IVA y deducido el descuento de la unidad (cubierta con o sin cámara), de la vida útil expresada en kilómetros y de los kilómetros recorridos en la prestación del servicio
B96: MATRICULA VEHÍCULO | C96: KM RECORRIDOS MINIMO CONCESIONAL | D96: TIPO (SERIE) DE NEUMÁTICOS EMPLEADOS | E96: PROMEDIO COSTE UNIDAD (SIN IVA Y CON DESCUENTO) | F96: PROMEDIO COSTE JUEGO COMPLETO | G96: PROMEDIO VIDA ÚTIL (KM) | H96: COSTE EUROS/KM | I96: TOTAL EUROS
A97: 1 | B97: =+B7 | C97: =+C7 | D97: =+IF(B97="","",'B - DATOS CONTRATO GESTIÓN'!L284) | F97: =+IF(C97="","",E97*'B - DATOS CONTRATO GESTIÓN'!K284) | H97: =+IF(C97="","",F97/G97) | I97: =+IF(B97="","",C97*H97)
A98: 2 | B98: =+B8 | C98: =+C8 | D98: =+IF(B98="","",'B - DATOS CONTRATO GESTIÓN'!L285) | F98: =+IF(C98="","",E98*'B - DATOS CONTRATO GESTIÓN'!K285) | H98: =+IF(C98="","",F98/G98) | I98: =+IF(B98="","",C98*H98)
A99: 3 | B99: =+B9 | C99: =+C9 | D99: =+IF(B99="","",'B - DATOS CONTRATO GESTIÓN'!L286) | F99: =+IF(C99="","",E99*'B - DATOS CONTRATO GESTIÓN'!K286) | H99: =+IF(C99="","",F99/G99) | I99: =+IF(B99="","",C99*H99)
A100: 4 | B100: =+B10 | C100: =+C10 | D100: =+IF(B100="","",'B - DATOS CONTRATO GESTIÓN'!L287) | F100: =+IF(C100="","",E100*'B - DATOS CONTRATO GESTIÓN'!K287) | H100: =+IF(C100="","",F100/G100) | I100: =+IF(B100="","",C100*H100)
A101: 5 | B101: =+B11 | C101: =+C11 | D101: =+IF(B101="","",'B - DATOS CONTRATO GESTIÓN'!L288) | F101: =+IF(C101="","",E101*'B - DATOS CONTRATO GESTIÓN'!K288) | H101: =+IF(C101="","",F101/G101) | I101: =+IF(B101="","",C101*H101)
A102: 6 | B102: =+B12 | C102: =+C12 | D102: =+IF(B102="","",'B - DATOS CONTRATO GESTIÓN'!L289) | F102: =+IF(C102="","",E102*'B - DATOS CONTRATO GESTIÓN'!K289) | H102: =+IF(C102="","",F102/G102) | I102: =+IF(B102="","",C102*H102)
A103: 7 | B103: =+B13 | C103: =+C13 | D103: =+IF(B103="","",'B - DATOS CONTRATO GESTIÓN'!L290) | F103: =+IF(C103="","",E103*'B - DATOS CONTRATO GESTIÓN'!K290) | H103: =+IF(C103="","",F103/G103) | I103: =+IF(B103="","",C103*H103)
A104: 8 | B104: =+B14 | C104: =+C14 | D104: =+IF(B104="","",'B - DATOS CONTRATO GESTIÓN'!L291) | F104: =+IF(C104="","",E104*'B - DATOS CONTRATO GESTIÓN'!K291) | H104: =+IF(C104="","",F104/G104) | I104: =+IF(B104="","",C104*H104)
A105: 9 | B105: =+B15 | C105: =+C15 | D105: =+IF(B105="","",'B - DATOS CONTRATO GESTIÓN'!L292) | F105: =+IF(C105="","",E105*'B - DATOS CONTRATO GESTIÓN'!K292) | H105: =+IF(C105="","",F105/G105) | I105: =+IF(B105="","",C105*H105)
A106: 10 | B106: =+B16 | C106: =+C16 | D106: =+IF(B106="","",'B - DATOS CONTRATO GESTIÓN'!L293) | F106: =+IF(C106="","",E106*'B - DATOS CONTRATO GESTIÓN'!K293) | H106: =+IF(C106="","",F106/G106) | I106: =+IF(B106="","",C106*H106)
A107: 11 | B107: =+B17 | C107: =+C17 | D107: =+IF(B107="","",'B - DATOS CONTRATO GESTIÓN'!L294) | F107: =+IF(C107="","",E107*'B - DATOS CONTRATO GESTIÓN'!K294) | H107: =+IF(C107="","",F107/G107) | I107: =+IF(B107="","",C107*H107)
A108: 12 | B108: =+B18 | C108: =+C18 | D108: =+IF(B108="","",'B - DATOS CONTRATO GESTIÓN'!L295) | F108: =+IF(C108="","",E108*'B - DATOS CONTRATO GESTIÓN'!K295) | H108: =+IF(C108="","",F108/G108) | I108: =+IF(B108="","",C108*H108)
... A176: 80 | B176: =+B86 | C176: =+C86 | D176: =+IF(B176="","",'B - DATOS CONTRATO GESTIÓN'!L363) | F176: =+IF(C176="","",E176*'B - DATOS CONTRATO GESTIÓN'!K363) | H176: =+IF(C176="","",F176/G176) | I176: =+IF(B176="","",C176*H176)
B177: TOTAL COSTE NEUMÁTICOS | I177: =SUM(I97:I176) -> 0
B179: C.3. REPARACIONES Y MANTENIMIENTO
B181: En función de las características de cada vehículo y del servicio prestado el solicitante propondrá unos costes medios por kilómetro en concepto de reparaciones y mantenimiento de los vehículos
B183: MATRICULA VEHÍCULO | C183: KM RECORRIDOS MINIMO CONCESIONAL | D183: COSTE MEDIO REPARACIONES Y MANTENIMIENTO POR KM | E183: TOTAL EUROS
A184: 1 | B184: =+B7 | C184: =+C7 | E184: =+IF(B184="","",D184*C184)
...

Sheet D - INGRESOS
A2: D. INGRESOS PERIODO DE AGOSTO DE 2022 A ENERO DE 2024
A4: INGRESOS BILLETES VIAJEROS (EXPEDICIONES MÍNIMO CONCESIONAL)
A5: INGRESOS BILLETES VIAJEROS (EXPEDICIONES SUPLEMENTARIAS)
A6: INGRESOS RESERVA DE PLAZA DE ESCOLARES (EXP. MÍNIMO CONCESIONAL)
A7: INGRESOS RESERVA DE PLAZA DE ESCOLARES (EXP. SUPLEMENTARIAS)
A8: INGRESOS EQUIPAJES Y PAQUETERÍA (EXP. MÍNIMO CONCESIONAL)
A9: INGRESOS EQUIPAJES Y PAQUETERÍA (EXP. SUPLEMENTARIAS)
A10: OTROS INGRESOS: AYUDAS ABONOS AL TRANSPORTE, OTRAS SUBVENCIONES PARA LA EXPLOTACIÓN, ETC. (EXP. MÍNIMO CONCESIONAL)
A11: OTROS INGRESOS: AYUDAS ABONOS AL TRANSPORTE, OTRAS SUBVENCIONES PARA LA EXPLOTACIÓN, ETC. (EXP. SUPLEMENTARIAS)
A13: TOTAL INGRESOS | B13: =SUM(B4:B11) -> 0

Sheet E - ANÁLISIS ECONÓMICO
A2: E. ANÁLISIS ECONÓMICO DE LA PRESTACIÓN DEL SERVICIO. MÍNIMO CONCESIONAL DE AGOSTO DE 2022 A ENERO DE 2024
A4: PRESTADOR | B4: ='A - DATOS GENERALES'!B4 -> 0
A5: SERVICIO PÚBLICO REGULAR DE USO GENERAL | B5: =+'B - DATOS CONTRATO GESTIÓN'!C4 -> 0
A6: NOMBRE SERVICIO | B6: =+'B - DATOS CONTRATO GESTIÓN'!C5 -> 0
A8: KILÓMETROS SERVICIO DE AGOSTO DE 2022 A ENERO DE 2024 (MINIMO CONCESIONAL) | B8: =+'B - DATOS CONTRATO GESTIÓN'!H859 -> 0
A11: COSTES
C12: %
A13: COMBUSTIBLES Y LUBRICANTES | B13: =+'C - COSTES DE LA EXPLOTACIÓN'!F89 -> 0 | C13: =+B13/$B$24 -> #DIV/0!
A14: NEUMÁTICOS | B14: =+'C - COSTES DE LA EXPLOTACIÓN'!I177 -> 0 | C14: =+B14/$B$24 -> #DIV/0!
A15: REPARACIONES Y CONSERVACIÓN | B15: =+'C - COSTES DE LA EXPLOTACIÓN'!E264 -> 0 | C15: =+B15/$B$24 -> #DIV/0!
A16: PERSONAL DE CONDUCCIÓN | B16: =+'C - COSTES DE LA EXPLOTACIÓN'!J472 -> 0 | C16: =+B16/$B$24 -> #DIV/0!
A17: DIETAS DEL PERSONAL DE CONDUCCIÓN | B17: =+'C - COSTES DE LA EXPLOTACIÓN'!I473 -> 0 | C17: =+B17/$B$24 -> #DIV/0!
A18: AMORTIZACIÓN | B18: =+'C - COSTES DE LA EXPLOTACIÓN'!K1178 -> 0 | C18: =+B18/$B$24 -> #DIV/0!
A19: FINANCIACIÓN | B19: =+'C - COSTES DE LA EXPLOTACIÓN'!H1266 -> 0 | C19: =+B19/$B$24 -> #DIV/0!
A20: SEGUROS | B20: =+'C - COSTES DE LA EXPLOTACIÓN'!I1354 -> 0 | C20: =+B20/$B$24 -> #DIV/0!
A21: IMPUESTOS Y TASAS | B21: =+'C - COSTES DE LA EXPLOTACIÓN'!I1442 -> 0 | C21: =+B21/$B$24 -> #DIV/0!
A22: GASTOS GENERALES DE LA EMPRESA | B22: =+'C - COSTES DE LA EXPLOTACIÓN'!C1501 -> #DIV/0! | C22: =+B22/$B$24 -> #DIV/0!
A24: TOTAL COSTES DE AGOSTO DE 2022 A ENERO DE 2024 (MINIMO CONCESIONAL) | B24: =SUM(B13:B22) -> #DIV/0! | C24: =SUM(C13:C22) -> #DIV/0!
A27: INGRESOS
A29: =+'D - INGRESOS'!A4 -> INGRESOS BILLETES VIAJEROS (EXPEDICIONES MÍNIMO CONCESIONAL) | B29: =+'D - INGRESOS'!B4 -> 0
A30: =+'D - INGRESOS'!A6 -> INGRESOS RESERVA DE PLAZA DE ESCOLARES (EXP. MÍNIMO CONCESIONAL) | B30: =+'D - INGRESOS'!B6 -> 0
A31: =+'D - INGRESOS'!A8 -> INGRESOS EQUIPAJES Y PAQUETERÍA (EXP. MÍNIMO CONCESIONAL) | B31: =+'D - INGRESOS'!B8 -> 0
A32: =+'D - INGRESOS'!A10 -> OTROS INGRESOS: AYUDAS ABONOS AL TRANSPORTE, OTRAS SUBVENCIONES PARA LA EXPLOTACIÓN, ETC. (EXP. MÍNIMO CONCESIONAL) | B32: =+'D - INGRESOS'!B10 -> 0
A34: TOTAL INGRESOS DE AGOSTO DE 2022 A ENERO DE 2024 (MINIMO CONCESIONAL) | B34: =+B29+B30+B31+B32 -> 0
A37: RESULTADO ECONÓMICO DE LA CONCESIÓN
A38: COSTES DE AGOSTO DE 2022 A ENERO DE 2024 | B38: =+B24 -> #DIV/0!
A39: INGRESOS DE AGOSTO DE 2022 A ENERO DE 2024 | B39: =+B34 -> 0
A40: DÉFICIT DE AGOSTO DE 2022 A ENERO DE 2024 | B40: =+B38-B39 -> #DIV/0!

Sheet F - DOCUMENTOS JUSTIFICANTES
A2: F. DOCUMENTACIÓN JUSTIFICANTE
A4: Junto con la memoria, la persona solicitante aportará los justificantes que se relacionan a continuación, sin perjuicio de que la Dirección General de Transportes pueda requerir documentación justificativa adicional y de la aportación por el solicitante de cualquiera otra que considere de interés:
A6: - Justificantes de las subvenciones recibidas por la prestación de servicio. - Justificantes de las subvenciones recibidas por las plazas reservadas para transporte escolar durante los meses de agosto de 2022 a enero de 2024. - Facturas de los costes de combustible, neumáticos y mantenimiento durante los meses de agosto de 2022 a enero de 2024 por la prestación del servicio para el que solicita la subvención. - Justificante de los costes salariales del personal de conducción: Nóminas, documentos de cotización, justificante de pago de cuotas por el régimen especial de autónomos, convenio laboral. - Facturas de adquisición de los vehículos sobre los que se imputan costes de amortización, plan de amortización, justificantes de subvenciones recibidas para la adquisición de los mismos. - Justificante los gastos financieros, pólizas de créditos y/o préstamos directamente vinculados a cada vehículo en el periodo de agosto de 2022 a enero de 2024. - Primas de seguros devengadas en el periodo de agosto de 2022 a enero de 2024 y documento justificativo de pago. - Justificante de los impuestos y tasas para cada vehículo devengados y contabilizados en el periodo de agosto de 2022 a enero de 2024 referenciados en el apartado B de esta memoria. - Justificante de los ingresos por billete de viajeros, equipajes y paquetería obtenidos durante los meses de agosto de 2022 a enero de 2024. Y reseñados en el apartado D de esta memoria y para el que solicita la subvención. - Archivo con la información de los discos-diagrama del primer y último día de servicio de los vehículos que realizan el servicio objeto de subvención. - En el caso de vehículos con tacógrafo digital, fichero que contenga el volcado de los datos almacenados en la memoria del tacógrafo y en la memoria de la tarjeta del conductor o conductores de los vehículos con los que se haya prestado el servicio.

Sheet CONTROL
A1: KM RECORRIDOS TOTALES CONCESIÓN | D1: KM RECORRIDOS (MINIMO CONCESIONAL)
A3: KM SERVICIO TABLA B.4. VEHICULOS | B3: =+'B - DATOS CONTRATO GESTIÓN'!O364+'B - DATOS CONTRATO GESTIÓN'!P364 -> 0 | D3: KM SERVICIO TABLA B.4. VEHICULOS | E3: =+'B - DATOS CONTRATO GESTIÓN'!O364 -> 0
A4: KM SERVICIO TABLA B.6. KM RECORRIDOS | B4: =+'B - DATOS CONTRATO GESTIÓN'!O859 -> 0 | D4: KM SERVICIO TABLA B.6. KM RECORRIDOS | E4: =+'B - DATOS CONTRATO GESTIÓN'!H859 -> 0
B5: =+IF(B3=B4,"OK","NO CUADRA") -> OK | E5: =+IF(E3=E4,"OK","NO CUADRA") -> OK
A7: HORAS IMPUTADAS AL CONTRATO TOTALES | D7: HORAS IMPUTADAS AL CONTRATO (MINIMO CONCESIONAL)
A9: HORAS EJECUCION SERVICIO TABLA B.5. | B9: =+'B - DATOS CONTRATO GESTIÓN'!K641 -> 0 | D9: HORAS EJECUCION SERVICIO TABLA B.5. | E9: =+'B - DATOS CONTRATO GESTIÓN'!I641 -> 0
A10: HORAS COMPLEMENTARIAS SERVICIO TABLA B.5. | B10: =+'B - DATOS CONTRATO GESTIÓN'!K749 -> 0 | D10: HORAS COMPLEMENTARIAS SERVICIO TABLA B.5. | E10: =+'B - DATOS CONTRATO GESTIÓN'!I749 -> 0
A11: SUMA | B11: =SUM(B9:B10) -> 0 | D11: SUMA | E11: =SUM(E9:E10) -> 0
A12: HORAS IMPUTADAS TABLA C.4. | B12: =+'C - COSTES DE LA EXPLOTACIÓN'!E472 -> 0 | D12: HORAS IMPUTADAS TABLA C.4. | E12: =+'C - COSTES DE LA EXPLOTACIÓN'!F472 -> 0
B13: =+IF(B9+B10=B12,"OK","NO CUADRA") -> OK | E13: =+IF(E9+E10=E12,"OK","NO CUADRA") -> OK
