Workbook

Sheet V_DATOS PAC_SGA

Sheet V_EAP-AGRI_2023
A1: ful | B1: RESUMEN CULTIVOS EXPLOTACION
E3: Sup. Pac. Ext. | F3: Sup. Añadida. | G3: Prod. Est. Total | H3: Margen Neto.
B5: SECANO NO ECO | E5: =O_CALC_CultivoPrincipal!AJ7 -> 0 | F5: =H327 -> 0 | G5: =U327 -> 442400 | H5: =X327 -> 79676.22
B7: SECANO ECO | E7: =O_CALC_CultivoPrincipal!AI7 -> 0 | F7: =K327 -> 13
B9: REGADIO NO ECO | E9: =O_CALC_CultivoPrincipal!AL7 -> 0 | F9: =I327 -> 0
B11: REGADIO ECO | E11: =O_CALC_CultivoPrincipal!AK7 -> 0 | F11: =L327 -> 44
B14: TOTAL | E14: =SUM(E4:E13) -> 0 | F14: =SUM(F4:F13) -> 57 | G14: =SUM(G4:G13) -> 442400 | H14: =SUM(H4:H13) -> 79676.22
B16: RESULTADOS ECONOMICOS CALCULADOS
B18: MARGEN NETO | E18: =H14 -> 79676.22
AH19: (Seleccionar)
B20: MARGEN BRUTO ESTANDAR | E20: =G14 -> 442400
AH21: SI
F23: CULTIVOS EXPLOTACION | H23: POSIBILIDAD DE AÑADIR MANUALMENTE SUPERFICIES | K23: POSIBILIDAD DE AÑADIR MANUALMENTE SUPERFICIES | M23: Visualizar | AH23: NO
H25: Parcelas no declaradas | K25: Parcelas no declaradas | U25: TOTAL | AB25: TOTAL | AH25: (Seleccionar)
H26: en ultima PAC | K26: en ultima PAC | AH26: 2004 | AI26: 20583
B27: GRUPO | C27: PRD_ TIPO | D27: USP_ CODIGO | E27: COD. | F27: CULTIVO | H27: Superficie (Has.) | K27: Superficie (Has.) | N27: PRODUCCION ESTÁNDAR (€/HA.) | Q27: MARGEN NETO (€/HA.) | U27: PRODUCCION ESTANDAR | X27: MARGEN NETO | Z27: PRODUCCION ESTÁNDAR (€/HA.) | AB27: % SEC | AC27: % REG | AD27: PRODUCCIÓN ESTÁNDAR AJUSTADA | AH27: 2005 | AI27: 21229
H28: NO ECOLOGICO | K28: ECOLOGICO
H29: SEC | I29: REG | K29: SEC | L29: REG | M29: 0 | N29: SEC | O29: REG | Q29: SEC | R29: REG | Z29: SEC | AA29: REG | AH29: 2006 | AI29: 22022
A30: Columna1 | B30: Columna2 | C30: Columna3 | D30: Columna4 | E30: Columna5 | F30: Columna6 | M30: =+IF(OR((#REF!+#REF!)>0,(#REF!+#REF!)>0,(K30+L30)>0),"SI","NO") -> #REF! | N30: ='O_MN, PE_UTA_UGM 2023'!H4 -> 119 | O30: ='O_MN, PE_UTA_UGM 2023'!I4 -> 256 | Q30: =VLOOKUP(E31,'O_MN, PE_UTA_UGM 2023'!$B$1:$I$300,5,FALSE()) -> 48.08 | R30: =VLOOKUP(E31,'O_MN, PE_UTA_UGM 2023'!$B$1:$I$300,6,FALSE()) -> 150.25 | U30: =(H30*N30)+(I30*O30)+((K30*N30)+(L30*O30)*1.25) -> 0 | X30: =(H30*Q30)+(I30*R30)+((K30*Q30)+(L30*R30)*1.25) -> 0 | Z30: =(#REF!+#REF!+K30)*'O_MN, PE_UTA_UGM 2023'!H4 -> #REF! | AA30: =(#REF!+#REF!+L30)*'O_MN, PE_UTA_UGM 2023'!I4 -> #REF! | AB30: =IF(ISERROR(+ROUND(#REF!*N30/#REF!,3)),0,+ROUND(#REF!*N30/#REF!,3)) -> 0 | AC30: =IF(ISERROR(+ROUND(#REF!*O30/#REF!,3)),0,+ROUND(#REF!*O30/#REF!,3)) -> 0 | AD30: =IF(AND(AB30=0,AC30=0),0,#REF!*(#REF!-(#REF!*AB30/N30))+#REF!*(#REF!-(#REF!*AC30/O30))) -> 0 | AH30: 2007 | AI30: 22732
E31: ='O_MN, PE_UTA_UGM 2023'!B4 -> 25 | F31: ='O_MN, PE_UTA_UGM 2023'!C4 -> ABANDONO 20 años | M31: =+IF(OR((#REF!+#REF!)>0,(#REF!+#REF!)>0,(K31+L31)>0),"SI","NO") -> #REF! | N31: =VLOOKUP(E32,'O_MN, PE_UTA_UGM 2023'!$B$1:$I$300,7,FALSE()) -> 0 | O31: =VLOOKUP(E32,'O_MN, PE_UTA_UGM 2023'!$B$1:$I$300,8,FALSE()) -> 0 | Q31: =VLOOKUP(E32,'O_MN, PE_UTA_UGM 2023'!$B$1:$I$300,5,FALSE()) -> 1e-05 | R31: =VLOOKUP(E32,'O_MN, PE_UTA_UGM 2023'!$B$1:$I$300,6,FALSE()) -> 1e-05 | U31: =(H31*N31)+(I31*O31)+((K31*N31)+(L31*O31)*1.25) -> 0 | X31: =(H31*Q31)+(I31*R31)+((K31*Q31)+(L31*R31)*1.25) -> 0 | Z31: =(#REF!+#REF!+K31)*'O_MN, PE_UTA_UGM 2023'!H5 -> #REF! | AA31: =(#REF!+#REF!+L31)*'O_MN, PE_UTA_UGM 2023'!I5 -> #REF! | AB31: =IF(ISERROR(+ROUND(#REF!*N31/#REF!,3)),0,+ROUND(#REF!*N31/#REF!,3)) -> 0 | AC31: =IF(ISERROR(+ROUND(#REF!*O31/#REF!,3)),0,+ROUND(#REF!*O31/#REF!,3)) -> 0 | AD31: =IF(AND(AB31=0,AC31=0),0,#REF!*(#REF!-(#REF!*AB31/N31))+#REF!*(#REF!-(#REF!*AC31/O31))) -> 0 | AH31: 2008 | AI31: 23765
E32: ='O_MN, PE_UTA_UGM 2023'!B5 -> 296 | F32: ='O_MN, PE_UTA_UGM 2023'!C5 -> ABETO | M32: =+IF(OR((#REF!+#REF!)>0,(#REF!+#REF!)>0,(K32+L32)>0),"SI","NO") -> #REF! | N32: =VLOOKUP(E33,'O_MN, PE_UTA_UGM 2023'!$B$1:$I$300,7,FALSE()) -> 0 | O32: =VLOOKUP(E33,'O_MN, PE_UTA_UGM 2023'!$B$1:$I$300,8,FALSE()) -> 0 | Q32: =VLOOKUP(E33,'O_MN, PE_UTA_UGM 2023'!$B$1:$I$300,5,FALSE()) -> 1e-05 | R32: =VLOOKUP(E33,'O_MN, PE_UTA_UGM 2023'!$B$1:$I$300,6,FALSE()) -> 1e-05 | U32: =(H32*N32)+(I32*O32)+((K32*N32)+(L32*O32)*1.25) -> 0 | X32: =(H32*Q32)+(I32*R32)+((K32*Q32)+(L32*R32)*1.25) -> 0 | Z32: =(#REF!+#REF!+K32)*'O_MN, PE_UTA_UGM 2023'!H6 -> #REF! | AA32: =(#REF!+#REF!+L32)*'O_MN, PE_UTA_UGM 2023'!I6 -> #REF! | AB32: =IF(ISERROR(+ROUND(#REF!*N32/#REF!,3)),0,+ROUND(#REF!*N32/#REF!,3)) -> 0 | AC32: =IF(ISERROR(+ROUND(#REF!*O32/#REF!,3)),0,+ROUND(#REF!*O32/#REF!,3)) -> 0 | AD32: =IF(AND(AB32=0,AC32=0),0,#REF!*(#REF!-(#REF!*AB32/N32))+#REF!*(#REF!-(#REF!*AC32/O32))) -> 0 | AH32: 2009 | AI32: 24906
E33: ='O_MN, PE_UTA_UGM 2023'!B6 -> 228 | F33: ='O_MN, PE_UTA_UGM 2023'!C6 -> ACACIA | M33: =+IF(OR((#REF!+#REF!)>0,(#REF!+#REF!)>0,(K33+L33)>0),"SI","NO") -> #REF! | N33: =VLOOKUP(E34,'O_MN, PE_UTA_UGM 2023'!$B$1:$I$300,7,FALSE()) -> 0 | O33: =VLOOKUP(E34,'O_MN, PE_UTA_UGM 2023'!$B$1:$I$300,8,FALSE()) -> 7200 | Q33: =VLOOKUP(E34,'O_MN, PE_UTA_UGM 2023'!$B$1:$I$300,5,FALSE()) -> 360.61 | R33: =VLOOKUP(E34,'O_MN, PE_UTA_UGM 2023'!$B$1:$I$300,6,FALSE()) -> 1352.28 | U33: =(H33*N33)+(I33*O33)+((K33*N33)+(L33*O33)*1.25) -> 0 | X33: =(H33*Q33)+(I33*R33)+((K33*Q33)+(L33*R33)*1.25) -> 0 | Z33: =(#REF!+#REF!+K33)*'O_MN, PE_UTA_UGM 2023'!H7 -> #REF! | AA33: =(#REF!+#REF!+L33)*'O_MN, PE_UTA_UGM 2023'!I7 -> #REF! | AB33: =IF(ISERROR(+ROUND(#REF!*N33/#REF!,3)),0,+ROUND(#REF!*N33/#REF!,3)) -> 0 | AC33: =IF(ISERROR(+ROUND(#REF!*O33/#REF!,3)),0,+ROUND(#REF!*O33/#REF!,3)) -> 0 | AD33: =IF(AND(AB33=0,AC33=0),0,#REF!*(#REF!-(#REF!*AB33/N33))+#REF!*(#REF!-(#REF!*AC33/O33))) -> 0 | AH33: 2010 | AI33: 26305
E34: ='O_MN, PE_UTA_UGM 2023'!B7 -> 166 | F34: ='O_MN, PE_UTA_UGM 2023'!C7 -> ACELGA | M34: =+IF(OR((#REF!+#REF!)>0,(#REF!+#REF!)>0,(K34+L34)>0),"SI","NO") -> #REF! | N34: =VLOOKUP(E35,'O_MN, PE_UTA_UGM 2023'!$B$1:$I$300,7,FALSE()) -> 0 | O34: =VLOOKUP(E35,'O_MN, PE_UTA_UGM 2023'!$B$1:$I$300,8,FALSE()) -> 5200 | Q34: =VLOOKUP(E35,'O_MN, PE_UTA_UGM 2023'!$B$1:$I$300,5,FALSE()) -> 360.61 | R34: =VLOOKUP(E35,'O_MN, PE_UTA_UGM 2023'!$B$1:$I$300,6,FALSE()) -> 1352.28 | U34: =(H34*N34)+(I34*O34)+((K34*N34)+(L34*O34)*1.25) -> 0 | X34: =(H34*Q34)+(I34*R34)+((K34*Q34)+(L34*R34)*1.25) -> 0 | Z34: =(#REF!+#REF!+K34)*'O_MN, PE_UTA_UGM 2023'!H8 -> #REF! | AA34: =(#REF!+#REF!+L34)*'O_MN, PE_UTA_UGM 2023'!I8 -> #REF! | AB34: =IF(ISERROR(+ROUND(#REF!*N34/#REF!,3)),0,+ROUND(#REF!*N34/#REF!,3)) -> 0 | AC34: =IF(ISERROR(+ROUND(#REF!*O34/#REF!,3)),0,+ROUND(#REF!*O34/#REF!,3)) -> 0 | AD34: =IF(AND(AB34=0,AC34=0),0,#REF!*(#REF!-(#REF!*AB34/N34))+#REF!*(#REF!-(#REF!*AC34/O34))) -> 0 | AH34: 2011 | AI34: 27503
E35: ='O_MN, PE_UTA_UGM 2023'!B8 -> 181 | F35: ='O_MN, PE_UTA_UGM 2023'!C8 -> ACHICORIA | M35: =+IF(OR((#REF!+#REF!)>0,(#REF!+#REF!)>0,(K35+L35)>0),"SI","NO") -> #REF! | N35: =VLOOKUP(E36,'O_MN, PE_UTA_UGM 2023'!$B$1:$I$300,7,FALSE()) -> 0 | O35: =VLOOKUP(E36,'O_MN, PE_UTA_UGM 2023'!$B$1:$I$300,8,FALSE()) -> 5200 | Q35: =VLOOKUP(E36,'O_MN, PE_UTA_UGM 2023'!$B$1:$I$300,5,FALSE()) -> 114.19 | R35: =VLOOKUP(E36,'O_MN, PE_UTA_UGM 2023'!$B$1:$I$300,6,FALSE()) -> 240.4 | U35: =(H35*N35)+(I35*O35)+((K35*N35)+(L35*O35)*1.25) -> 0 | X35: =(H35*Q35)+(I35*R35)+((K35*Q35)+(L35*R35)*1.25) -> 0 | Z35: =(#REF!+#REF!+K35)*'O_MN, PE_UTA_UGM 2023'!H9 -> #REF! | AA35: =(#REF!+#REF!+L35)*'O_MN, PE_UTA_UGM 2023'!I9 -> #REF! | AB35: =IF(ISERROR(+ROUND(#REF!*N35/#REF!,3)),0,+ROUND(#REF!*N35/#REF!,3)) -> 0 | AC35: =IF(ISERROR(+ROUND(#REF!*O35/#REF!,3)),0,+ROUND(#REF!*O35/#REF!,3)) -> 0 | AD35: =IF(AND(AB35=0,AC35=0),0,#REF!*(#REF!-(#REF!*AB35/N35))+#REF!*(#REF!-(#REF!*AC35/O35))) -> 0 | AH35: 2012 | AI35: 27907
E36: ='O_MN, PE_UTA_UGM 2023'!B9 -> 138 | F36: ='O_MN, PE_UTA_UGM 2023'!C9 -> ADORMIDERA | M36: =+IF(OR((#REF!+#REF!)>0,(#REF!+#REF!)>0,(K36+L36)>0),"SI","NO") -> #REF! | N36: =VLOOKUP(E37,'O_MN, PE_UTA_UGM 2023'!$B$1:$I$300,7,FALSE()) -> 1000 | O36: =VLOOKUP(E37,'O_MN, PE_UTA_UGM 2023'!$B$1:$I$300,8,FALSE()) -> 3800 | Q36: =VLOOKUP(E37,'O_MN, PE_UTA_UGM 2023'!$B$1:$I$300,5,FALSE()) -> 114.19 | R36: =VLOOKUP(E37,'O_MN, PE_UTA_UGM 2023'!$B$1:$I$300,6,FALSE()) -> 240.4 | U36: =(H36*N36)+(I36*O36)+((K36*N36)+(L36*O36)*1.25) -> 0 | X36: =(H36*Q36)+(I36*R36)+((K36*Q36)+(L36*R36)*1.25) -> 0 | Z36: =(#REF!+#REF!+K36)*'O_MN, PE_UTA_UGM 2023'!H10 -> #REF! | AA36: =(#REF!+#REF!+L36)*'O_MN, PE_UTA_UGM 2023'!I10 -> #REF! | AB36: =IF(ISERROR(+ROUND(#REF!*N36/#REF!,3)),0,+ROUND(#REF!*N36/#REF!,3)) -> 0 | AC36: =IF(ISERROR(+ROUND(#REF!*O36/#REF!,3)),0,+ROUND(#REF!*O36/#REF!,3)) -> 0 | AD36: =IF(AND(AB36=0,AC36=0),0,#REF!*(#REF!-(#REF!*AB36/N36))+#REF!*(#REF!-(#REF!*AC36/O36))) -> 0 | AH36: 2013 | AI36: 28278
E37: ='O_MN, PE_UTA_UGM 2023'!B10 -> 308 | F37: ='O_MN, PE_UTA_UGM 2023'!C10 -> AGRIMONIA | M37: =+IF(OR((#REF!+#REF!)>0,(#REF!+#REF!)>0,(K37+L37)>0),"SI","NO") -> #REF! | N37: =VLOOKUP(E38,'O_MN, PE_UTA_UGM 2023'!$B$1:$I$300,7,FALSE()) -> 769.21 | O37: =VLOOKUP(E38,'O_MN, PE_UTA_UGM 2023'!$B$1:$I$300,8,FALSE()) -> 2400 | Q37: =VLOOKUP(E38,'O_MN, PE_UTA_UGM 2023'!$B$1:$I$300,5,FALSE()) -> 114.19 | R37: =VLOOKUP(E38,'O_MN, PE_UTA_UGM 2023'!$B$1:$I$300,6,FALSE()) -> 270.46 | U37: =(H37*N37)+(I37*O37)+((K37*N37)+(L37*O37)*1.25) -> 0 | X37: =(H37*Q37)+(I37*R37)+((K37*Q37)+(L37*R37)*1.25) -> 0 | Z37: =(#REF!+#REF!+K37)*'O_MN, PE_UTA_UGM 2023'!H11 -> #REF! | AA37: =(#REF!+#REF!+L37)*'O_MN, PE_UTA_UGM 2023'!I11 -> #REF! | AB37: =IF(ISERROR(+ROUND(#REF!*N37/#REF!,3)),0,+ROUND(#REF!*N37/#REF!,3)) -> 0 | AC37: =IF(ISERROR(+ROUND(#REF!*O37/#REF!,3)),0,+ROUND(#REF!*O37/#REF!,3)) -> 0 | AD37: =IF(AND(AB37=0,AC37=0),0,#REF!*(#REF!-(#REF!*AB37/N37))+#REF!*(#REF!-(#REF!*AC37/O37))) -> 0 | AH37: 2014 | AI37: 28165
E38: ='O_MN, PE_UTA_UGM 2023'!B11 -> 70 | F38: ='O_MN, PE_UTA_UGM 2023'!C11 -> AGROSTIS | M38: =+IF(OR((#REF!+#REF!)>0,(#REF!+#REF!)>0,(K38+L38)>0),"SI","NO") -> #REF! | N38: =VLOOKUP(E39,'O_MN, PE_UTA_UGM 2023'!$B$1:$I$300,7,FALSE()) -> 0 | O38: =VLOOKUP(E39,'O_MN, PE_UTA_UGM 2023'!$B$1:$I$300,8,FALSE()) -> 0 | Q38: =VLOOKUP(E39,'O_MN, PE_UTA_UGM 2023'!$B$1:$I$300,5,FALSE()) -> 1e-05 | R38: =VLOOKUP(E39,'O_MN, PE_UTA_UGM 2023'!$B$1:$I$300,6,FALSE()) -> 1e-05 | U38: =(H38*N38)+(I38*O38)+((K38*N38)+(L38*O38)*1.25) -> 0 | X38: =(H38*Q38)+(I38*R38)+((K38*Q38)+(L38*R38)*1.25) -> 0 | Z38: =(#REF!+#REF!+K38)*'O_MN, PE_UTA_UGM 2023'!H12 -> #REF! | AA38: =(#REF!+#REF!+L38)*'O_MN, PE_UTA_UGM 2023'!I12 -> #REF! | AB38: =IF(ISERROR(+ROUND(#REF!*N38/#REF!,3)),0,+ROUND(#REF!*N38/#REF!,3)) -> 0 | AC38: =IF(ISERROR(+ROUND(#REF!*O38/#REF!,3)),0,+ROUND(#REF!*O38/#REF!,3)) -> 0 | AD38: =IF(AND(AB38=0,AC38=0),0,#REF!*(#REF!-(#REF!*AB38/N38))+#REF!*(#REF!-(#REF!*AC38/O38))) -> 0 | AH38: 2015 | AI38: 28051.2
E39: ='O_MN, PE_UTA_UGM 2023'!B12 -> 229 | F39: ='O_MN, PE_UTA_UGM 2023'!C12 -> AILANTHUS | M39: =+IF(OR((#REF!+#REF!)>0,(#REF!+#REF!)>0,(K39+L39)>0),"SI","NO") -> #REF! | N39: =VLOOKUP(E40,'O_MN, PE_UTA_UGM 2023'!$B$1:$I$300,7,FALSE()) -> 1000 | O39: =VLOOKUP(E40,'O_MN, PE_UTA_UGM 2023'!$B$1:$I$300,8,FALSE()) -> 3800 | Q39: =VLOOKUP(E40,'O_MN, PE_UTA_UGM 2023'!$B$1:$I$300,5,FALSE()) -> 114.19 | R39: =VLOOKUP(E40,'O_MN, PE_UTA_UGM 2023'!$B$1:$I$300,6,FALSE()) -> 240.4 | U39: =(H39*N39)+(I39*O39)+((K39*N39)+(L39*O39)*1.25) -> 0 | X39: =(H39*Q39)+(I39*R39)+((K39*Q39)+(L39*R39)*1.25) -> 0 | Z39: =(#REF!+#REF!+K39)*'O_MN, PE_UTA_UGM 2023'!H13 -> #REF! | AA39: =(#REF!+#REF!+L39)*'O_MN, PE_UTA_UGM 2023'!I13 -> #REF! | AB39: =IF(ISERROR(+ROUND(#REF!*N39/#REF!,3)),0,+ROUND(#REF!*N39/#REF!,3)) -> 0 | AC39: =IF(ISERROR(+ROUND(#REF!*O39/#REF!,3)),0,+ROUND(#REF!*O39/#REF!,3)) -> 0 | AD39: =IF(AND(AB39=0,AC39=0),0,#REF!*(#REF!-(#REF!*AB39/N39))+#REF!*(#REF!-(#REF!*AC39/O39))) -> 0 | AH39: 2016 | AI39: 28396.56
E40: ='O_MN, PE_UTA_UGM 2023'!B13 -> 251 | F40: ='O_MN, PE_UTA_UGM 2023'!C13 -> AJEDREA | M40: =+IF(OR((#REF!+#REF!)>0,(#REF!+#REF!)>0,(K40+L40)>0),"SI","NO") -> #REF! | N40: =VLOOKUP(E41,'O_MN, PE_UTA_UGM 2023'!$B$1:$I$300,7,FALSE()) -> 1000 | O40: =VLOOKUP(E41,'O_MN, PE_UTA_UGM 2023'!$B$1:$I$300,8,FALSE()) -> 3800 | Q40: =VLOOKUP(E41,'O_MN, PE_UTA_UGM 2023'!$B$1:$I$300,5,FALSE()) -> 450.76 | R40: =VLOOKUP(E41,'O_MN, PE_UTA_UGM 2023'!$B$1:$I$300,6,FALSE()) -> 721.21 | U40: =(H40*N40)+(I40*O40)+((K40*N40)+(L40*O40)*1.25) -> 0 | X40: =(H40*Q40)+(I40*R40)+((K40*Q40)+(L40*R40)*1.25) -> 0 | Z40: =(#REF!+#REF!+K40)*'O_MN, PE_UTA_UGM 2023'!H14 -> #REF! | AA40: =(#REF!+#REF!+L40)*'O_MN, PE_UTA_UGM 2023'!I14 -> #REF! | AB40: =IF(ISERROR(+ROUND(#REF!*N40/#REF!,3)),0,+ROUND(#REF!*N40/#REF!,3)) -> 0 | AC40: =IF(ISERROR(+ROUND(#REF!*O40/#REF!,3)),0,+ROUND(#REF!*O40/#REF!,3)) -> 0 | AD40: =IF(AND(AB40=0,AC40=0),0,#REF!*(#REF!-(#REF!*AB40/N40))+#REF!*(#REF!-(#REF!*AC40/O40))) -> 0 | AH40: 2017 | AI40: 28549.87
E41: ='O_MN, PE_UTA_UGM 2023'!B14 -> 284 | F41: ='O_MN, PE_UTA_UGM 2023'!C14 -> AJENJO | M41: =+IF(OR((#REF!+#REF!)>0,(#REF!+#REF!)>0,(K41+L41)>0),"SI","NO") -> #REF! | N41: =VLOOKUP(E42,'O_MN, PE_UTA_UGM 2023'!$B$1:$I$300,7,FALSE()) -> 0 | O41: =VLOOKUP(E42,'O_MN, PE_UTA_UGM 2023'!$B$1:$I$300,8,FALSE()) -> 7200 | Q41: =VLOOKUP(E42,'O_MN, PE_UTA_UGM 2023'!$B$1:$I$300,5,FALSE()) -> 360.61 | R41: =VLOOKUP(E42,'O_MN, PE_UTA_UGM 2023'!$B$1:$I$300,6,FALSE()) -> 1352.28 | U41: =(H41*N41)+(I41*O41)+((K41*N41)+(L41*O41)*1.25) -> 0 | X41: =(H41*Q41)+(I41*R41)+((K41*Q41)+(L41*R41)*1.25) -> 0 | Z41: =(#REF!+#REF!+K41)*'O_MN, PE_UTA_UGM 2023'!H15 -> #REF! | AA41: =(#REF!+#REF!+L41)*'O_MN, PE_UTA_UGM 2023'!I15 -> #REF! | AB41: =IF(ISERROR(+ROUND(#REF!*N41/#REF!,3)),0,+ROUND(#REF!*N41/#REF!,3)) -> 0 | AC41: =IF(ISERROR(+ROUND(#REF!*O41/#REF!,3)),0,+ROUND(#REF!*O41/#REF!,3)) -> 0 | AD41: =IF(AND(AB41=0,AC41=0),0,#REF!*(#REF!-(#REF!*AB41/N41))+#REF!*(#REF!-(#REF!*AC41/O41))) -> 0
E42: ='O_MN, PE_UTA_UGM 2023'!B15 -> 169 | F42: ='O_MN, PE_UTA_UGM 2023'!C15 -> AJO | M42: =+IF(OR((#REF!+#REF!)>0,(#REF!+#REF!)>0,(K42+L42)>0),"SI","NO") -> #REF! | N42: =VLOOKUP(E43,'O_MN, PE_UTA_UGM 2023'!$B$1:$I$300,7,FALSE()) -> 1000 | O42: =VLOOKUP(E43,'O_MN, PE_UTA_UGM 2023'!$B$1:$I$300,8,FALSE()) -> 3800 | Q42: =VLOOKUP(E43,'O_MN, PE_UTA_UGM 2023'!$B$1:$I$300,5,FALSE()) -> 114.19 | R42: =VLOOKUP(E43,'O_MN, PE_UTA_UGM 2023'!$B$1:$I$300,6,FALSE()) -> 240.4 | U42: =(H42*N42)+(I42*O42)+((K42*N42)+(L42*O42)*1.25) -> 0 | X42: =(H42*Q42)+(I42*R42)+((K42*Q42)+(L42*R42)*1.25) -> 0 | Z42: =(#REF!+#REF!+K42)*'O_MN, PE_UTA_UGM 2023'!H16 -> #REF! | AA42: =(#REF!+#REF!+L42)*'O_MN, PE_UTA_UGM 2023'!I16 -> #REF! | AB42: =IF(ISERROR(+ROUND(#REF!*N42/#REF!,3)),0,+ROUND(#REF!*N42/#REF!,3)) -> 0 | AC42: =IF(ISERROR(+ROUND(#REF!*O42/#REF!,3)),0,+ROUND(#REF!*O42/#REF!,3)) -> 0 | AD42: =IF(AND(AB42=0,AC42=0),0,#REF!*(#REF!-(#REF!*AB42/N42))+#REF!*(#REF!-(#REF!*AC42/O42))) -> 0
E43: ='O_MN, PE_UTA_UGM 2023'!B16 -> 264 | F43: ='O_MN, PE_UTA_UGM 2023'!C16 -> ALBAHACA | K43: 10 | L43: 40 | M43: =+IF(OR((#REF!+#REF!)>0,(#REF!+#REF!)>0,(K43+L43)>0),"SI","NO") -> #REF! | N43: =VLOOKUP(E44,'O_MN, PE_UTA_UGM 2023'!$B$1:$I$300,7,FALSE()) -> 3000 | O43: =VLOOKUP(E44,'O_MN, PE_UTA_UGM 2023'!$B$1:$I$300,8,FALSE()) -> 8000 | Q43: =VLOOKUP(E44,'O_MN, PE_UTA_UGM 2023'!$B$1:$I$300,5,FALSE()) -> 480.81 | R43: =VLOOKUP(E44,'O_MN, PE_UTA_UGM 2023'!$B$1:$I$300,6,FALSE()) -> 1442.43 | U43: =(H43*N43)+(I43*O43)+((K43*N43)+(L43*O43)*1.25) -> 430000 | X43: =(H43*Q43)+(I43*R43)+((K43*Q43)+(L43*R43)*1.25) -> 76929.6 | Z43: =(#REF!+#REF!+K43)*'O_MN, PE_UTA_UGM 2023'!H17 -> #REF! | AA43: =(#REF!+#REF!+L43)*'O_MN, PE_UTA_UGM 2023'!I17 -> #REF! | AB43: =IF(ISERROR(+ROUND(#REF!*N43/#REF!,3)),0,+ROUND(#REF!*N43/#REF!,3)) -> 0 | AC43: =IF(ISERROR(+ROUND(#REF!*O43/#REF!,3)),0,+ROUND(#REF!*O43/#REF!,3)) -> 0 | AD43: =IF(AND(AB43=0,AC43=0),0,#REF!*(#REF!-(#REF!*AB43/N43))+#REF!*(#REF!-(#REF!*AC43/O43))) -> 0
E44: ='O_MN, PE_UTA_UGM 2023'!B17 -> 107 | F44: ='O_MN, PE_UTA_UGM 2023'!C17 -> ALBARICOQUEROS | M44: =+IF(OR((#REF!+#REF!)>0,(#REF!+#REF!)>0,(K44+L44)>0),"SI","NO") -> #REF! | N44: =VLOOKUP(E45,'O_MN, PE_UTA_UGM 2023'!$B$1:$I$300,7,FALSE()) -> 500 | O44: =VLOOKUP(E45,'O_MN, PE_UTA_UGM 2023'!$B$1:$I$300,8,FALSE()) -> 1500 | Q44: =VLOOKUP(E45,'O_MN, PE_UTA_UGM 2023'!$B$1:$I$300,5,FALSE()) -> 114.19 | R44: =VLOOKUP(E45,'O_MN, PE_UTA_UGM 2023'!$B$1:$I$300,6,FALSE()) -> 240.4 | U44: =(H44*N44)+(I44*O44)+((K44*N44)+(L44*O44)*1.25) -> 0 | X44: =(H44*Q44)+(I44*R44)+((K44*Q44)+(L44*R44)*1.25) -> 0 | Z44: =(#REF!+#REF!+K44)*'O_MN, PE_UTA_UGM 2023'!H18 -> #REF! | AA44: =(#REF!+#REF!+L44)*'O_MN, PE_UTA_UGM 2023'!I18 -> #REF! | AB44: =IF(ISERROR(+ROUND(#REF!*N44/#REF!,3)),0,+ROUND(#REF!*N44/#REF!,3)) -> 0 | AC44: =IF(ISERROR(+ROUND(#REF!*O44/#REF!,3)),0,+ROUND(#REF!*O44/#REF!,3)) -> 0 | AD44: =IF(AND(AB44=0,AC44=0),0,#REF!*(#REF!-(#REF!*AB44/N44))+#REF!*(#REF!-(#REF!*AC44/O44))) -> 0
E45: ='O_MN, PE_UTA_UGM 2023'!B18 -> 250 | F45: ='O_MN, PE_UTA_UGM 2023'!C18 -> ALVERJON | M45: =+IF(OR((#REF!+#REF!)>0,(#REF!+#REF!)>0,(K45+L45)>0),"SI","NO") -> #REF! | N45: =VLOOKUP(E46,'O_MN, PE_UTA_UGM 2023'!$B$1:$I$300,7,FALSE()) -> 0 | O45: =VLOOKUP(E46,'O_MN, PE_UTA_UGM 2023'!$B$1:$I$300,8,FALSE()) -> 10500 | Q45: =VLOOKUP(E46,'O_MN, PE_UTA_UGM 2023'!$B$1:$I$300,5,FALSE()) -> 360.61 | R45: =VLOOKUP(E46,'O_MN, PE_UTA_UGM 2023'!$B$1:$I$300,6,FALSE()) -> 1352.28 | U45: =(H45*N45)+(I45*O45)+((K45*N45)+(L45*O45)*1.25) -> 0 | X45: =(H45*Q45)+(I45*R45)+((K45*Q45)+(L45*R45)*1.25) -> 0 | Z45: =(#REF!+#REF!+K45)*'O_MN, PE_UTA_UGM 2023'!H19 -> #REF! | AA45: =(#REF!+#REF!+L45)*'O_MN, PE_UTA_UGM 2023'!I19 -> #REF! | AB45: =IF(ISERROR(+ROUND(#REF!*N45/#REF!,3)),0,+ROUND(#REF!*N45/#REF!,3)) -> 0 | AC45: =IF(ISERROR(+ROUND(#REF!*O45/#REF!,3)),0,+ROUND(#REF!*O45/#REF!,3)) -> 0 | AD45: =IF(AND(AB45=0,AC45=0),0,#REF!*(#REF!-(#REF!*AB45/N45))+#REF!*(#REF!-(#REF!*AC45/O45))) -> 0
E46: ='O_MN, PE_UTA_UGM 2023'!B19 -> 164 | F46: ='O_MN, PE_UTA_UGM 2023'!C19 -> ALCACHOFA | M46: =+IF(OR((#REF!+#REF!)>0,(#REF!+#REF!)>0,(K46+L46)>0),"SI","NO") -> #REF! | N46: =VLOOKUP(E47,'O_MN, PE_UTA_UGM 2023'!$B$1:$I$300,7,FALSE()) -> 1000 | O46: =VLOOKUP(E47,'O_MN, PE_UTA_UGM 2023'!$B$1:$I$300,8,FALSE()) -> 3800 | Q46: =VLOOKUP(E47,'O_MN, PE_UTA_UGM 2023'!$B$1:$I$300,5,FALSE()) -> 360.61 | R46: =VLOOKUP(E47,'O_MN, PE_UTA_UGM 2023'!$B$1:$I$300,6,FALSE()) -> 1352.28 | U46: =(H46*N46)+(I46*O46)+((K46*N46)+(L46*O46)*1.25) -> 0 | X46: =(H46*Q46)+(I46*R46)+((K46*Q46)+(L46*R46)*1.25) -> 0 | Z46: =(#REF!+#REF!+K46)*'O_MN, PE_UTA_UGM 2023'!H20 -> #REF! | AA46: =(#REF!+#REF!+L46)*'O_MN, PE_UTA_UGM 2023'!I20 -> #REF! | AB46: =IF(ISERROR(+ROUND(#REF!*N46/#REF!,3)),0,+ROUND(#REF!*N46/#REF!,3)) -> 0 | AC46: =IF(ISERROR(+ROUND(#REF!*O46/#REF!,3)),0,+ROUND(#REF!*O46/#REF!,3)) -> 0 | AD46: =IF(AND(AB46=0,AC46=0),0,#REF!*(#REF!-(#REF!*AB46/N46))+#REF!*(#REF!-(#REF!*AC46/O46))) -> 0
E47: ='O_MN, PE_UTA_UGM 2023'!B20 -> 283 | F47: ='O_MN, PE_UTA_UGM 2023'!C20 -> ALCAPARRA | M47: =+IF(OR((#REF!+#REF!)>0,(#REF!+#REF!)>0,(K47+L47)>0),"SI","NO") -> #REF! | N47: =VLOOKUP(E48,'O_MN, PE_UTA_UGM 2023'!$B$1:$I$300,7,FALSE()) -> 0 | O47: =VLOOKUP(E48,'O_MN, PE_UTA_UGM 2023'!$B$1:$I$300,8,FALSE()) -> 0 | Q47: =VLOOKUP(E48,'O_MN, PE_UTA_UGM 2023'!$B$1:$I$300,5,FALSE()) -> 1e-05 | R47: =VLOOKUP(E48,'O_MN, PE_UTA_UGM 2023'!$B$1:$I$300,6,FALSE()) -> 1e-05 | U47: =(H47*N47)+(I47*O47)+((K47*N47)+(L47*O47)*1.25) -> 0 | X47: =(H47*Q47)+(I47*R47)+((K47*Q47)+(L47*R47)*1.25) -> 0 | Z47: =(#REF!+#REF!+K47)*'O_MN, PE_UTA_UGM 2023'!H21 -> #REF! | AA47: =(#REF!+#REF!+L47)*'O_MN, PE_UTA_UGM 2023'!I21 -> #REF! | AB47: =IF(ISERROR(+ROUND(#REF!*N47/#REF!,3)),0,+ROUND(#REF!*N47/#REF!,3)) -> 0 | AC47: =IF(ISERROR(+ROUND(#REF!*O47/#REF!,3)),0,+ROUND(#REF!*O47/#REF!,3)) -> 0 | AD47: =IF(AND(AB47=0,AC47=0),0,#REF!*(#REF!-(#REF!*AB47/N47))+#REF!*(#REF!-(#REF!*AC47/O47))) -> 0
E48: ='O_MN, PE_UTA_UGM 2023'!B21 -> 295 | F48: ='O_MN, PE_UTA_UGM 2023'!C21 -> ALCORNOQUE | K48: 3 | L48: 4 | M48: =+IF(OR((#REF!+#REF!)>0,(#REF!+#REF!)>0,(K48+L48)>0),"SI","NO") -> #REF! | N48: =VLOOKUP(E49,'O_MN, PE_UTA_UGM 2023'!$B$1:$I$300,7,FALSE()) -> 800 | O48: =VLOOKUP(E49,'O_MN, PE_UTA_UGM 2023'!$B$1:$I$300,8,FALSE()) -> 2000 | Q48: =VLOOKUP(E49,'O_MN, PE_UTA_UGM 2023'!$B$1:$I$300,5,FALSE()) -> 114.19 | R48: =VLOOKUP(E49,'O_MN, PE_UTA_UGM 2023'!$B$1:$I$300,6,FALSE()) -> 480.81 | U48: =(H48*N48)+(I48*O48)+((K48*N48)+(L48*O48)*1.25) -> 12400 | X48: =(H48*Q48)+(I48*R48)+((K48*Q48)+(L48*R48)*1.25) -> 2746.62 | Z48: =(#REF!+#REF!+K48)*'O_MN, PE_UTA_UGM 2023'!H22 -> #REF! | AA48: =(#REF!+#REF!+L48)*'O_MN, PE_UTA_UGM 2023'!I22 -> #REF! | AB48: =IF(ISERROR(+ROUND(#REF!*N48/#REF!,3)),0,+ROUND(#REF!*N48/#REF!,3)) -> 0 | AC48: =IF(ISERROR(+ROUND(#REF!*O48/#REF!,3)),0,+ROUND(#REF!*O48/#REF!,3)) -> 0 | AD48: =IF(AND(AB48=0,AC48=0),0,#REF!*(#REF!-(#REF!*AB48/N48))+#REF!*(#REF!-(#REF!*AC48/O48))) -> 0
E49: ='O_MN, PE_UTA_UGM 2023'!B22 -> 60 | F49: ='O_MN, PE_UTA_UGM 2023'!C22 -> ALFALFA | M49: =+IF(OR((#REF!+#REF!)>0,(#REF!+#REF!)>0,(K49+L49)>0),"SI","NO") -> #REF! | N49: =VLOOKUP(E50,'O_MN, PE_UTA_UGM 2023'!$B$1:$I$300,7,FALSE()) -> 265.73 | O49: =VLOOKUP(E50,'O_MN, PE_UTA_UGM 2023'!$B$1:$I$300,8,FALSE()) -> 500 | Q49: =VLOOKUP(E50,'O_MN, PE_UTA_UGM 2023'!$B$1:$I$300,5,FALSE()) -> 114.19 | R49: =VLOOKUP(E50,'O_MN, PE_UTA_UGM 2023'!$B$1:$I$300,6,FALSE()) -> 240.4 | U49: =(H49*N49)+(I49*O49)+((K49*N49)+(L49*O49)*1.25) -> 0 | X49: =(H49*Q49)+(I49*R49)+((K49*Q49)+(L49*R49)*1.25) -> 0 | Z49: =(#REF!+#REF!+K49)*'O_MN, PE_UTA_UGM 2023'!H23 -> #REF! | AA49: =(#REF!+#REF!+L49)*'O_MN, PE_UTA_UGM 2023'!I23 -> #REF! | AB49: =IF(ISERROR(+ROUND(#REF!*N49/#REF!,3)),0,+ROUND(#REF!*N49/#REF!,3)) -> 0 | AC49: =IF(ISERROR(+ROUND(#REF!*O49/#REF!,3)),0,+ROUND(#REF!*O49/#REF!,3)) -> 0 | AD49: =IF(AND(AB49=0,AC49=0),0,#REF!*(#REF!-(#REF!*AB49/N49))+#REF!*(#REF!-(#REF!*AC49/O49))) -> 0
E50: ='O_MN, PE_UTA_UGM 2023'!B23 -> 9 | F50: ='O_MN, PE_UTA_UGM 2023'!C23 -> ALFORFON | M50: =+IF(OR((#REF!+#REF!)>0,(#REF!+#REF!)>0,(K50+L50)>0),"SI","NO") -> #REF! | N50: =VLOOKUP(E51,'O_MN, PE_UTA_UGM 2023'!$B$1:$I$300,7,FALSE()) -> 721.21 | O50: =VLOOKUP(E51,'O_MN, PE_UTA_UGM 2023'!$B$1:$I$300,8,FALSE()) -> 1500 | Q50: =VLOOKUP(E51,'O_MN, PE_UTA_UGM 2023'!$B$1:$I$300,5,FALSE()) -> 450.76 | R50: =VLOOKUP(E51,'O_MN, PE_UTA_UGM 2023'!$B$1:$I$300,6,FALSE()) -> 721.21 | U50: =(H50*N50)+(I50*O50)+((K50*N50)+(L50*O50)*1.25) -> 0 | X50: =(H50*Q50)+(I50*R50)+((K50*Q50)+(L50*R50)*1.25) -> 0 | Z50: =(#REF!+#REF!+K50)*'O_MN, PE_UTA_UGM 2023'!H24 -> #REF! | AA50: =(#REF!+#REF!+L50)*'O_MN, PE_UTA_UGM 2023'!I24 -> #REF! | AB50: =IF(ISERROR(+ROUND(#REF!*N50/#REF!,3)),0,+ROUND(#REF!*N50/#REF!,3)) -> 0 | AC50: =IF(ISERROR(+ROUND(#REF!*O50/#REF!,3)),0,+ROUND(#REF!*O50/#REF!,3)) -> 0 | AD50: =IF(AND(AB50=0,AC50=0),0,#REF!*(#REF!-(#REF!*AB50/N50))+#REF!*(#REF!-(#REF!*AC50/O50))) -> 0
E51: ='O_MN, PE_UTA_UGM 2023'!B24 -> 248 | F51: ='O_MN, PE_UTA_UGM 2023'!C24 -> ALGARROBA | M51: =+IF(OR((#REF!+#REF!)>0,(#REF!+#REF!)>0,(K51+L51)>0),"SI","NO") -> #REF! | N51: =VLOOKUP(E52,'O_MN, PE_UTA_UGM 2023'!$B$1:$I$300,7,FALSE()) -> 721.21 | O51: =VLOOKUP(E52,'O_MN, PE_UTA_UGM 2023'!$B$1:$I$300,8,FALSE()) -> 1500 | Q51: =VLOOKUP(E52,'O_MN, PE_UTA_UGM 2023'!$B$1:$I$300,5,FALSE()) -> 450.76 | R51: =VLOOKUP(E52,'O_MN, PE_UTA_UGM 2023'!$B$1:$I$300,6,FALSE()) -> 721.21 | U51: =(H51*N51)+(I51*O51)+((K51*N51)+(L51*O51)*1.25) -> 0 | X51: =(H51*Q51)+(I51*R51)+((K51*Q51)+(L51*R51)*1.25) -> 0 | Z51: =(#REF!+#REF!+K51)*'O_MN, PE_UTA_UGM 2023'!H25 -> #REF! | AA51: =(#REF!+#REF!+L51)*'O_MN, PE_UTA_UGM 2023'!I25 -> #REF! | AB51: =IF(ISERROR(+ROUND(#REF!*N51/#REF!,3)),0,+ROUND(#REF!*N51/#REF!,3)) -> 0 | AC51: =IF(ISERROR(+ROUND(#REF!*O51/#REF!,3)),0,+ROUND(#REF!*O51/#REF!,3)) -> 0 | AD51: =IF(AND(AB51=0,AC51=0),0,#REF!*(#REF!-(#REF!*AB51/N51))+#REF!*(#REF!-(#REF!*AC51/O51))) -> 0
...

Sheet V_EAP-AGRI_2024
A1: SUPERFICIES AGREGADAS A LA PAC | H1: TOTALES | I1: SECANO NO ECO | J1: SECANO ECO | K1: REGADIO NO ECO | L1: REGADIO ECO | AG1: TOTALES | AH1: SECANO NO ECO | AI1: SECANO ECO | AJ1: REGADIO NO ECO | AK1: REGADIO ECO | BM1: 1
G2: Sup. PAC (Ha) | H2: =SUM(I2:L2) -> 0 | I2: =O_CALC_CultivoPrincipal!AJ7 -> 0 | J2: =O_CALC_CultivoPrincipal!AI7 -> 0 | K2: =O_CALC_CultivoPrincipal!AL7 -> 0 | L2: =O_CALC_CultivoPrincipal!AK7 -> 0 | AG2: 4670.955 | AH2: 522.73 | AI2: 448.225 | AJ2: 700 | AK2: 3000 | AW2: PESNECO | AX2: PERNECO | AY2: PESECO | AZ2: PERECO | BM2: 1
G3: Sup. Agr.a (Ha) | H3: =SUM(I3:L3) -> 0 | I3: =AG14 -> 0 | J3: =AJ14 -> 0 | K3: =AH14 -> 0 | L3: =AK14 -> 0 | AG3: 1098.34 | AH3: 114.19 | AI3: 142.7375 | AJ3: 240.4 | AK3: 601.0125 | AW3: #=SUMA(AV26:AV401) | AX3: #=SUMA(AW26:AW401) | AY3: #=SUMA(AX26:AX401) | AZ3: #=SUMA(AY26:AY401) | BG3: Cultivos extensivos | BH3: Leñosos fruta dulce: cultivos leñosos de fruta dulce de hueso y pepita | BI3: Leñosos mediterráneos: olivo, vid, almendro, trufa | BJ3: Hortícolas: cultivos hortícolas al aire libre o en invernadero | BK3: Aromáticas | BM3: 1
G4: Prod. Est. (€) | H4: =SUM(I4:L4) -> 0 | I4: =SUM(AV26:AV401) -> 0 | J4: =SUM(AX26:AX401) -> 0 | K4: =SUM(AW26:AW401) -> 0 | L4: =SUM(AY26:AY401) -> 0 | AG4: 0.0387 | AH4: 0.00465 | AI4: 0.00465 | AJ4: 0.0098 | AK4: 0.0196 | BM4: 1
G5: Margen Neto. (€) | H5: =SUM(I5:L5) -> 0 | I5: =SUM(AZ26:AZ401) -> 0 | J5: =SUM(BB26:BB401) -> 0 | K5: =SUM(BA26:BA401) -> 0 | L5: =SUM(BC26:BC401) -> 0 | AW5: MNSNECO | AX5: MNRNECO | AY5: MNSECO | AZ5: MNRECO | BM5: 1
G6: UTAs | H6: =SUM(I6:L6) -> 0 | I6: =SUM(BD26:BD401) -> 0 | J6: =SUM(BF26:BF401) -> 0 | K6: =SUM(BE26:BE401) -> 0 | L6: =SUM(BG26:BG401) -> 0 | AW6: #=SUMA(AZ26:AZ401) | AX6: #=SUMA(BA26:BA401) | AY6: #=SUMA(BB26:BB401) | AZ6: #=SUMA(BC26:BC401) | BM6: 1
G7: Prod. Est. SECTORES (€) (sin barbechos) | BM7: 1
G8: Cultivos extensivos | J8: =BH14 -> 0 | AW8: UTASNECO | AX8: UTASECO | AY8: UTARNECO | AZ8: UTARECO
G9: Leñosos fruta dulce: | J9: =BI14 -> 0 | AW9: #=SUMA(BD26:BD401) | AX9: #=SUMA(BF26:BF401) | AY9: #=SUMA(BE26:BE401) | AZ9: #=SUMA(BG26:BG401) | BM9: 1
A10: NO ECOLOGICO | C10: ECOLOGICO | G10: Olivo, vid, almendro, trufa | J10: =BJ14 -> 0 | BM10: 1
G11: Hortícolas: | J11: =BK14 -> 0 | AJ11: =SUM(CX4:CX8) -> 0 | BM11: 1
A12: SECANO | B12: REGADIO | C12: SECANO | D12: REGADIO | E12: Sup. Total | F12: FILTRAR | G12: Aromaticas. | J12: =BL14 -> 0 | BM12: 1
E13: =IF(SUM(A13:D13)>0,SUM(A13:D13),"") | F13: =AD26 -> TRIGO BLANDO | AV13: PESNECO | AW13: PERNECO | AX13: PESECO | AY13: PERECO | AZ13: MNSNECO | BA13: MNRNECO | BB13: MNSECO | BC13: MNRECO | BD13: UTASNECO | BE13: UTARNECO | BF13: UTASECO | BG13: UTARECO | BM13: 1
E14: =IF(SUM(A14:D14)>0,SUM(A14:D14),"") | F14: =AD27 -> ESPELTA | AG14: =SUM(AG26:AG401) -> 0 | AH14: =SUM(AH26:AH401) -> 0 | AJ14: =SUM(AJ26:AJ401) -> 0 | AK14: =SUM(AK26:AK401) -> 0 | AV14: =SUM(AV26:AV401) -> 0 | AW14: =SUM(AW26:AW401) -> 0 | AX14: =SUM(AX26:AX401) -> 0 | AY14: =SUM(AY26:AY401) -> 0 | AZ14: =SUM(AZ26:AZ401) -> 0 | BA14: =SUM(BA26:BA401) -> 0 | BB14: =SUM(BB26:BB401) -> 0 | BC14: =SUM(BC26:BC401) -> 0 | ... BL14: =SUM(BL26:BL401) -> 0 | BM14: 1
E15: =IF(SUM(A15:D15)>0,SUM(A15:D15),"") | F15: =AD28 -> TRIGO DURO | BM15: 1
E16: =IF(SUM(A16:D16)>0,SUM(A16:D16),"") | F16: =AD29 -> MAÍZ | AL16: #=+SI(O((#¡REF!+#¡REF!)>0;(#¡REF!+#¡REF!)>0;(AJ14+AK14)>0);"SI";"NO") | AV16: Produccion estandar. | AZ16: MARGEN NETO | BD16: UTAs. | BH16: PE POR SECTORES PRODUCTIVOS | BM16: 1 | BS16: =SUM(BS25:BS317) -> 0 | BT16: =SUM(BT25:BT317) -> 0
E17: =IF(SUM(A17:D17)>0,SUM(A17:D17),"") | F17: =AD30 -> CEBADA | BM17: 1
E18: =IF(SUM(A18:D18)>0,SUM(A18:D18),"") | F18: =AD31 -> CENTENO | AG18: POSIBILIDAD DE AÑADIR MANUALMENTE SUPERFICIES | AJ18: POSIBILIDAD DE AÑADIR MANUALMENTE SUPERFICIES | AL18: Visualizar | AN18: =AM27*1.25 -> 457.1625 | BM18: 1
E19: =IF(SUM(A19:D19)>0,SUM(A19:D19),"") | F19: =AD32 -> SORGO | BM19: 1
E20: =IF(SUM(A20:D20)>0,SUM(A20:D20),"") | F20: =AD33 -> AVENA | AG20: Parcelas no declaradas | AJ20: Parcelas no declaradas | AV20: Parcelas no declaradas | AX20: Parcelas no declaradas | AZ20: Parcelas no declaradas | BB20: Parcelas no declaradas | BD20: Parcelas no declaradas | BF20: Parcelas no declaradas | BM20: 1 | BS20: TOTAL
E21: =IF(SUM(A21:D21)>0,SUM(A21:D21),"") | F21: =AD34 -> ALFORFÓN | AG21: en ultima PAC | AJ21: en ultima PAC | AV21: en ultima PAC | AX21: en ultima PAC | AZ21: en ultima PAC | BB21: en ultima PAC | BD21: en ultima PAC | BF21: en ultima PAC | BM21: 1
E22: =IF(SUM(A22:D22)>0,SUM(A22:D22),"") | F22: =AD35 -> MIJO | Z22: ORDEN de Maximos de superfice para resumen cultivos. | AA22: COD. SECTOR PRODUCTIVO TIPO | AB22: COD. SIST. CULTIVO | AC22: COD. CULTIVO. | AD22: CULTIVO | AG22: Superficie (Has.) | AJ22: Superficie (Has.) | AM22: PRODUCCION ESTÁNDAR (€/HA.) | AP22: MARGEN NETO (€/HA.) | AS22: UTAs (UTA/HA.) | AV22: Superficie (Has.) | AX22: Superficie (Has.) | AZ22: Superficie (Has.) | BB22: Superficie (Has.) | BD22: Superficie (Has.) | BF22: Superficie (Has.) | BM22: 1 | BS22: PRODUCCION ESTANDAR | BT22: MARGEN NETO | BU22: UTAs
E23: =IF(SUM(A23:D23)>0,SUM(A23:D23),"") | F23: =AD36 -> ALPISTE | AE23: ORDEN de Maximos de superfice para resumen cultivos. | AF23: SUMA SUP TOTAL | AG23: NO ECOLOGICO | AJ23: ECOLOGICO | AV23: NO ECOLOGICO | AX23: ECOLOGICO | AZ23: NO ECOLOGICO | BB23: ECOLOGICO | BD23: NO ECOLOGICO | BF23: ECOLOGICO | BH23: Cultivos extensivos | BI23: Leñosos fruta dulce: cultivos leñosos de fruta dulce de hueso y pepita | BJ23: Leñosos mediterráneos: olivo, vid, almendro, trufa | BK23: Hortícolas: cultivos hortícolas al aire libre o en invernadero | BL23: Aromáticas | BM23: 1
E24: =IF(SUM(A24:D24)>0,SUM(A24:D24),"") | F24: =AD37 -> TRANQUILLÓN | AG24: SEC | AH24: REG | AJ24: SEC | AK24: REG | AL24: 0 | AM24: SEC | AN24: REG | AP24: SEC | AQ24: REG | AS24: SEC | AT24: REG | AV24: SEC | AW24: REG | AX24: SEC | AY24: REG | AZ24: SEC | BA24: REG | BB24: SEC | BC24: REG | BD24: SEC | BE24: REG | BF24: SEC | BG24: REG | BH24: 1 | BI24: 2 | BJ24: 3 | BK24: 4 | BL24: 5 | BM24: 1
E25: =IF(SUM(A25:D25)>0,SUM(A25:D25),"") | F25: =AD38 -> TRITICALE | Y25: 1 | Z25: 2 | AA25: 3 | AB25: 4 | AC25: 5 | AD25: 6 | AE25: 7 | AF25: 8 | AG25: 9 | AH25: 10 | AI25: 11 | AJ25: 12 | AK25: 13 | AL25: 14 | AM25: 15 | AN25: 16 | AO25: 17 | AP25: 18 | AQ25: 19 | AR25: 20 | AS25: 21 | AT25: 22 | AU25: 23 | AV25: 24 | AW25: 25 | AX25: 26 | AY25: 27 | AZ25: 28 | BA25: 29 | BB25: 30 | BC25: 31 | BD25: 32 | BE25: 33 | BF25: 34 | BG25: 35 | BH25: 36 | BI25: 37 | BJ25: 38 | BK25: 39 | BL25: 40 | BM25: 41 | BN25: 42 | BO25: 43 | BP25: 44 | BQ25: 45 | BR25: 46 | BS25: 47 | BT25: 48 | BU25: 49 | BV25: 50
E26: =IF(SUM(A26:D26)>0,SUM(A26:D26),"") | F26: =AD39 -> TRITORDEUM | Z26: =IF(AF26>0,RANK(AF26,AF$6:AF$422),"") | AA26: ='O_MN, PE_UTA_UGM 2024'!N3 -> 1 | AB26: ='O_MN, PE_UTA_UGM 2024'!O3 -> 0 | AC26: ='O_MN, PE_UTA_UGM 2024'!C3 -> 1 | AD26: =IF(AB26=0,'O_MN, PE_UTA_UGM 2024'!F3,CONCATENATE('O_MN, PE_UTA_UGM 2024'!F3," ","INVERNADERO")) -> TRIGO BLANDO | AF26: =SUM(AG26:AH26)+SUM(AJ26:AK26) -> 0 | AG26: =A13 -> 0 | AH26: =B13 -> 0 | AJ26: =C13 -> 0 | AK26: =D13 -> 0 | AL26: #=+SI(O((#¡REF!+#¡REF!)>0;(#¡REF!+#¡REF!)>0;(AJ26+AK26)>0);"SI";"NO") | AM26: ='O_MN, PE_UTA_UGM 2024'!J3 -> 522.73 | AN26: ='O_MN, PE_UTA_UGM 2024'!K3 -> 1000 | AP26: ='O_MN, PE_UTA_UGM 2024'!H3 -> 114.19 | AQ26: ='O_MN, PE_UTA_UGM 2024'!I3 -> 240.4 | AS26: ='O_MN, PE_UTA_UGM 2024'!L3 -> 0.00465 | AT26: ='O_MN, PE_UTA_UGM 2024'!M3 -> 0.0098 | AV26: =AG26*AM26 -> 0 | AW26: =AH26*AN26 -> 0 | AX26: =1.25*AJ26*AM26 -> 0 | AY26: =1.25*AK26*AN26 -> 0 | AZ26: =AG26*AP26 -> 0 | BA26: =AH26*AQ26 -> 0 | BB26: =1.25*AJ26*AP26 -> 0 | BC26: =1.25*AK26*AQ26 -> 0 | BD26: =AG26*AS26 -> 0 | BE26: =AH26*AT26 -> 0 | BF26: =AJ26*AS26 -> 0 | BG26: =AK26*AT26 -> 0 | BH26: =IF(BH$24=$AA26,($AG26*$AM26)+($AJ26*$AM26*1.25)+($AH26*$AN26)+($AK26*$AN26*1.25),"") -> 0 | BI26: =IF(BI$24=$AA26,($AG26*$AM26)+($AJ26*$AM26*1.25)+($AH26*$AN26)+($AK26*$AN26*1.25),"") | BJ26: =IF(BJ$24=$AA26,($AG26*$AM26)+($AJ26*$AM26*1.25)+($AH26*$AN26)+($AK26*$AN26*1.25),"") | BK26: =IF(BK$24=$AA26,($AG26*$AM26)+($AJ26*$AM26*1.25)+($AH26*$AN26)+($AK26*$AN26*1.25),"") | BL26: =IF(BL$24=$AA26,($AG26*$AM26)+($AJ26*$AM26*1.25)+($AH26*$AN26)+($AK26*$AN26*1.25),"") | BM26: =IF(CONCATENATE(BH26,BI26,BJ26,BK26,BL26)="",1,"") | BS26: =(AG26*AM26)+(AH26*AN26)+((AJ26*AM26)+(AK26*AN26)*1.25) -> 0 | BT26: =(AG26*AP26)+(AH26*AQ26)+((AJ26*AP26)+(AK26*AQ26)*1.25) -> 0 | BU26: =(AG26*AS26)+(AH26*AT26)+((AJ26*AS26)+(AK26*AT26)*1.25) -> 0
E27: =IF(SUM(A27:D27)>0,SUM(A27:D27),"") | F27: =AD40 -> TEFF | Z27: =IF(AF27>0,RANK(AF27,AF$6:AF$422),"") | AA27: ='O_MN, PE_UTA_UGM 2024'!N4 -> 1 | AB27: ='O_MN, PE_UTA_UGM 2024'!O4 -> 0 | AC27: ='O_MN, PE_UTA_UGM 2024'!C4 -> 2 | AD27: =IF(AB27=0,'O_MN, PE_UTA_UGM 2024'!F4,CONCATENATE('O_MN, PE_UTA_UGM 2024'!F4," ","INVERNADERO")) -> ESPELTA | AF27: =SUM(AG27:AH27)+SUM(AJ27:AK27) -> 0 | AG27: =A14 -> 0 | AH27: =B14 -> 0 | AJ27: =C14 -> 0 | AK27: =D14 -> 0 | AL27: #=+SI(O((#¡REF!+#¡REF!)>0;(#¡REF!+#¡REF!)>0;(AJ27+AK27)>0);"SI";"NO") | AM27: ='O_MN, PE_UTA_UGM 2024'!J4 -> 365.73 | AN27: ='O_MN, PE_UTA_UGM 2024'!K4 -> 700 | AP27: ='O_MN, PE_UTA_UGM 2024'!H4 -> 114.19 | AQ27: ='O_MN, PE_UTA_UGM 2024'!I4 -> 240.4 | AS27: ='O_MN, PE_UTA_UGM 2024'!L4 -> 0.00465 | AT27: ='O_MN, PE_UTA_UGM 2024'!M4 -> 0.0098 | AV27: =AG27*AM27 -> 0 | AW27: =AH27*AN27 -> 0 | AX27: =1.25*AJ27*AM27 -> 0 | AY27: =1.25*AK27*AN27 -> 0 | AZ27: =AG27*AP27 -> 0 | BA27: =AH27*AQ27 -> 0 | BB27: =1.25*AJ27*AP27 -> 0 | BC27: =1.25*AK27*AQ27 -> 0 | BD27: =AG27*AS27 -> 0 | BE27: =AH27*AT27 -> 0 | BF27: =AJ27*AS27 -> 0 | BG27: =AK27*AT27 -> 0 | BH27: =IF(BH$24=$AA27,($AG27*$AM27)+($AJ27*$AM27*1.25)+($AH27*$AN27)+($AK27*$AN27*1.25),"") -> 0 | BI27: =IF(BI$24=$AA27,($AG27*$AM27)+($AJ27*$AM27*1.25)+($AH27*$AN27)+($AK27*$AN27*1.25),"") | BJ27: =IF(BJ$24=$AA27,($AG27*$AM27)+($AJ27*$AM27*1.25)+($AH27*$AN27)+($AK27*$AN27*1.25),"") | BK27: =IF(BK$24=$AA27,($AG27*$AM27)+($AJ27*$AM27*1.25)+($AH27*$AN27)+($AK27*$AN27*1.25),"") | BL27: =IF(BL$24=$AA27,($AG27*$AM27)+($AJ27*$AM27*1.25)+($AH27*$AN27)+($AK27*$AN27*1.25),"") | BM27: =IF(CONCATENATE(BH27,BI27,BJ27,BK27,BL27)="",1,"") | BS27: =(AG27*AM27)+(AH27*AN27)+((AJ27*AM27)+(AK27*AN27)*1.25) -> 0 | BT27: =(AG27*AP27)+(AH27*AQ27)+((AJ27*AP27)+(AK27*AQ27)*1.25) -> 0
E28: =IF(SUM(A28:D28)>0,SUM(A28:D28),"") | F28: =AD41 -> BARBECHO TRADICIONAL | Z28: =IF(AF28>0,RANK(AF28,AF$6:AF$422),"") | AA28: ='O_MN, PE_UTA_UGM 2024'!N5 -> 1 | AB28: ='O_MN, PE_UTA_UGM 2024'!O5 -> 0 | AC28: ='O_MN, PE_UTA_UGM 2024'!C5 -> 3 | AD28: =IF(AB28=0,'O_MN, PE_UTA_UGM 2024'!F5,CONCATENATE('O_MN, PE_UTA_UGM 2024'!F5," ","INVERNADERO")) -> TRIGO DURO | AF28: =SUM(AG28:AH28)+SUM(AJ28:AK28) -> 0 | AG28: =A15 -> 0 | AH28: =B15 -> 0 | AJ28: =C15 -> 0 | AK28: =D15 -> 0 | AL28: #=+SI(O((#¡REF!+#¡REF!)>0;(#¡REF!+#¡REF!)>0;(AJ28+AK28)>0);"SI";"NO") | AM28: ='O_MN, PE_UTA_UGM 2024'!J5 -> 358.58 | AN28: ='O_MN, PE_UTA_UGM 2024'!K5 -> 1000 | AP28: ='O_MN, PE_UTA_UGM 2024'!H5 -> 114.19 | AQ28: ='O_MN, PE_UTA_UGM 2024'!I5 -> 240.4 | AS28: ='O_MN, PE_UTA_UGM 2024'!L5 -> 0.00465 | AT28: ='O_MN, PE_UTA_UGM 2024'!M5 -> 0.0098 | AV28: =AG28*AM28 -> 0 | AW28: =AH28*AN28 -> 0 | AX28: =1.25*AJ28*AM28 -> 0 | AY28: =1.25*AK28*AN28 -> 0 | AZ28: =AG28*AP28 -> 0 | BA28: =AH28*AQ28 -> 0 | BB28: =1.25*AJ28*AP28 -> 0 | BC28: =1.25*AK28*AQ28 -> 0 | BD28: =AG28*AS28 -> 0 | BE28: =AH28*AT28 -> 0 | BF28: =AJ28*AS28 -> 0 | BG28: =AK28*AT28 -> 0 | BH28: =IF(BH$24=$AA28,($AG28*$AM28)+($AJ28*$AM28*1.25)+($AH28*$AN28)+($AK28*$AN28*1.25),"") -> 0 | BI28: =IF(BI$24=$AA28,($AG28*$AM28)+($AJ28*$AM28*1.25)+($AH28*$AN28)+($AK28*$AN28*1.25),"") | BJ28: =IF(BJ$24=$AA28,($AG28*$AM28)+($AJ28*$AM28*1.25)+($AH28*$AN28)+($AK28*$AN28*1.25),"") | BK28: =IF(BK$24=$AA28,($AG28*$AM28)+($AJ28*$AM28*1.25)+($AH28*$AN28)+($AK28*$AN28*1.25),"") | BL28: =IF(BL$24=$AA28,($AG28*$AM28)+($AJ28*$AM28*1.25)+($AH28*$AN28)+($AK28*$AN28*1.25),"") | BM28: =IF(CONCATENATE(BH28,BI28,BJ28,BK28,BL28)="",1,"") | BS28: =(AG28*AM28)+(AH28*AN28)+((AJ28*AM28)+(AK28*AN28)*1.25) -> 0 | BT28: =(AG28*AP28)+(AH28*AQ28)+((AJ28*AP28)+(AK28*AQ28)*1.25) -> 0
E29: =IF(SUM(A29:D29)>0,SUM(A29:D29),"") | F29: =AD42 -> BARBECHO MEDIOAMBIENTAL | Z29: =IF(AF29>0,RANK(AF29,AF$6:AF$422),"") | AA29: ='O_MN, PE_UTA_UGM 2024'!N6 -> 1 | AB29: ='O_MN, PE_UTA_UGM 2024'!O6 -> 0 | AC29: ='O_MN, PE_UTA_UGM 2024'!C6 -> 4 | AD29: =IF(AB29=0,'O_MN, PE_UTA_UGM 2024'!F6,CONCATENATE('O_MN, PE_UTA_UGM 2024'!F6," ","INVERNADERO")) -> MAÍZ | AF29: =SUM(AG29:AH29)+SUM(AJ29:AK29) -> 0 | AG29: =A16 -> 0 | AH29: =B16 -> 0 | AJ29: =C16 -> 0 | AK29: =D16 -> 0 | AL29: #=+SI(O((#¡REF!+#¡REF!)>0;(#¡REF!+#¡REF!)>0;(AJ29+AK29)>0);"SI";"NO") | AM29: ='O_MN, PE_UTA_UGM 2024'!J6 -> 951.75 | AN29: ='O_MN, PE_UTA_UGM 2024'!K6 -> 2400 | AP29: ='O_MN, PE_UTA_UGM 2024'!H6 -> 114.19 | AQ29: ='O_MN, PE_UTA_UGM 2024'!I6 -> 480.81 | AS29: ='O_MN, PE_UTA_UGM 2024'!L6 -> 0.00465 | AT29: ='O_MN, PE_UTA_UGM 2024'!M6 -> 0.0196 | AV29: =AG29*AM29 -> 0 | AW29: =AH29*AN29 -> 0 | AX29: =1.25*AJ29*AM29 -> 0 | AY29: =1.25*AK29*AN29 -> 0 | AZ29: =AG29*AP29 -> 0 | BA29: =AH29*AQ29 -> 0 | BB29: =1.25*AJ29*AP29 -> 0 | BC29: =1.25*AK29*AQ29 -> 0 | BD29: =AG29*AS29 -> 0 | BE29: =AH29*AT29 -> 0 | BF29: =AJ29*AS29 -> 0 | BG29: =AK29*AT29 -> 0 | BH29: =IF(BH$24=$AA29,($AG29*$AM29)+($AJ29*$AM29*1.25)+($AH29*$AN29)+($AK29*$AN29*1.25),"") -> 0 | BI29: =IF(BI$24=$AA29,($AG29*$AM29)+($AJ29*$AM29*1.25)+($AH29*$AN29)+($AK29*$AN29*1.25),"") | BJ29: =IF(BJ$24=$AA29,($AG29*$AM29)+($AJ29*$AM29*1.25)+($AH29*$AN29)+($AK29*$AN29*1.25),"") | BK29: =IF(BK$24=$AA29,($AG29*$AM29)+($AJ29*$AM29*1.25)+($AH29*$AN29)+($AK29*$AN29*1.25),"") | BL29: =IF(BL$24=$AA29,($AG29*$AM29)+($AJ29*$AM29*1.25)+($AH29*$AN29)+($AK29*$AN29*1.25),"") | BM29: =IF(CONCATENATE(BH29,BI29,BJ29,BK29,BL29)="",1,"") | BS29: =(AG29*AM29)+(AH29*AN29)+((AJ29*AM29)+(AK29*AN29)*1.25) -> 0 | BT29: =(AG29*AP29)+(AH29*AQ29)+((AJ29*AP29)+(AK29*AQ29)*1.25) -> 0
E30: =IF(SUM(A30:D30)>0,SUM(A30:D30),"") | F30: =AD43 -> GIRASOL | Z30: =IF(AF30>0,RANK(AF30,AF$6:AF$422),"") | AA30: ='O_MN, PE_UTA_UGM 2024'!N7 -> 1 | AB30: ='O_MN, PE_UTA_UGM 2024'!O7 -> 0 | AC30: ='O_MN, PE_UTA_UGM 2024'!C7 -> 5 | AD30: =IF(AB30=0,'O_MN, PE_UTA_UGM 2024'!F7,CONCATENATE('O_MN, PE_UTA_UGM 2024'!F7," ","INVERNADERO")) -> CEBADA | AF30: =SUM(AG30:AH30)+SUM(AJ30:AK30) -> 0 | AG30: =A17 -> 0 | AH30: =B17 -> 0 | AJ30: =C17 -> 0 | AK30: =D17 -> 0 | AL30: #=+SI(O((#¡REF!+#¡REF!)>0;(#¡REF!+#¡REF!)>0;(AJ30+AK30)>0);"SI";"NO") | AM30: ='O_MN, PE_UTA_UGM 2024'!J7 -> 400 | AN30: ='O_MN, PE_UTA_UGM 2024'!K7 -> 800 | AP30: ='O_MN, PE_UTA_UGM 2024'!H7 -> 114.19 | AQ30: ='O_MN, PE_UTA_UGM 2024'!I7 -> 240.4 | AS30: ='O_MN, PE_UTA_UGM 2024'!L7 -> 0.00465 | AT30: ='O_MN, PE_UTA_UGM 2024'!M7 -> 0.0098 | AV30: =AG30*AM30 -> 0 | AW30: =AH30*AN30 -> 0 | AX30: =1.25*AJ30*AM30 -> 0 | AY30: =1.25*AK30*AN30 -> 0 | AZ30: =AG30*AP30 -> 0 | BA30: =AH30*AQ30 -> 0 | BB30: =1.25*AJ30*AP30 -> 0 | BC30: =1.25*AK30*AQ30 -> 0 | BD30: =AG30*AS30 -> 0 | BE30: =AH30*AT30 -> 0 | BF30: =AJ30*AS30 -> 0 | BG30: =AK30*AT30 -> 0 | BH30: =IF(BH$24=$AA30,($AG30*$AM30)+($AJ30*$AM30*1.25)+($AH30*$AN30)+($AK30*$AN30*1.25),"") -> 0 | BI30: =IF(BI$24=$AA30,($AG30*$AM30)+($AJ30*$AM30*1.25)+($AH30*$AN30)+($AK30*$AN30*1.25),"") | BJ30: =IF(BJ$24=$AA30,($AG30*$AM30)+($AJ30*$AM30*1.25)+($AH30*$AN30)+($AK30*$AN30*1.25),"") | BK30: =IF(BK$24=$AA30,($AG30*$AM30)+($AJ30*$AM30*1.25)+($AH30*$AN30)+($AK30*$AN30*1.25),"") | BL30: =IF(BL$24=$AA30,($AG30*$AM30)+($AJ30*$AM30*1.25)+($AH30*$AN30)+($AK30*$AN30*1.25),"") | BM30: =IF(CONCATENATE(BH30,BI30,BJ30,BK30,BL30)="",1,"") | BS30: =(AG30*AM30)+(AH30*AN30)+((AJ30*AM30)+(AK30*AN30)*1.25) -> 0 | BT30: =(AG30*AP30)+(AH30*AQ30)+((AJ30*AP30)+(AK30*AQ30)*1.25) -> 0
E31: =IF(SUM(A31:D31)>0,SUM(A31:D31),"") | F31: =AD44 -> SOJA | Z31: =IF(AF31>0,RANK(AF31,AF$6:AF$422),"") | AA31: ='O_MN, PE_UTA_UGM 2024'!N8 -> 1 | AB31: ='O_MN, PE_UTA_UGM 2024'!O8 -> 0 | AC31: ='O_MN, PE_UTA_UGM 2024'!C8 -> 6 | AD31: =IF(AB31=0,'O_MN, PE_UTA_UGM 2024'!F8,CONCATENATE('O_MN, PE_UTA_UGM 2024'!F8," ","INVERNADERO")) -> CENTENO | AF31: =SUM(AG31:AH31)+SUM(AJ31:AK31) -> 0 | AG31: =A18 -> 0 | AH31: =B18 -> 0 | AJ31: =C18 -> 0 | AK31: =D18 -> 0 | AL31: #=+SI(O((#¡REF!+#¡REF!)>0;(#¡REF!+#¡REF!)>0;(AJ31+AK31)>0);"SI";"NO") | AM31: ='O_MN, PE_UTA_UGM 2024'!J8 -> 364.22 | AN31: ='O_MN, PE_UTA_UGM 2024'!K8 -> 600 | AP31: ='O_MN, PE_UTA_UGM 2024'!H8 -> 114.19 | AQ31: ='O_MN, PE_UTA_UGM 2024'!I8 -> 240.4 | AS31: ='O_MN, PE_UTA_UGM 2024'!L8 -> 0.00465 | AT31: ='O_MN, PE_UTA_UGM 2024'!M8 -> 0.0098 | AV31: =AG31*AM31 -> 0 | AW31: =AH31*AN31 -> 0 | AX31: =1.25*AJ31*AM31 -> 0 | AY31: =1.25*AK31*AN31 -> 0 | AZ31: =AG31*AP31 -> 0 | BA31: =AH31*AQ31 -> 0 | BB31: =1.25*AJ31*AP31 -> 0 | BC31: =1.25*AK31*AQ31 -> 0 | BD31: =AG31*AS31 -> 0 | BE31: =AH31*AT31 -> 0 | BF31: =AJ31*AS31 -> 0 | BG31: =AK31*AT31 -> 0 | BH31: =IF(BH$24=$AA31,($AG31*$AM31)+($AJ31*$AM31*1.25)+($AH31*$AN31)+($AK31*$AN31*1.25),"") -> 0 | BI31: =IF(BI$24=$AA31,($AG31*$AM31)+($AJ31*$AM31*1.25)+($AH31*$AN31)+($AK31*$AN31*1.25),"") | BJ31: =IF(BJ$24=$AA31,($AG31*$AM31)+($AJ31*$AM31*1.25)+($AH31*$AN31)+($AK31*$AN31*1.25),"") | BK31: =IF(BK$24=$AA31,($AG31*$AM31)+($AJ31*$AM31*1.25)+($AH31*$AN31)+($AK31*$AN31*1.25),"") | BL31: =IF(BL$24=$AA31,($AG31*$AM31)+($AJ31*$AM31*1.25)+($AH31*$AN31)+($AK31*$AN31*1.25),"") | BM31: =IF(CONCATENATE(BH31,BI31,BJ31,BK31,BL31)="",1,"") | BS31: =(AG31*AM31)+(AH31*AN31)+((AJ31*AM31)+(AK31*AN31)*1.25) -> 0 | BT31: =(AG31*AP31)+(AH31*AQ31)+((AJ31*AP31)+(AK31*AQ31)*1.25) -> 0
E32: =IF(SUM(A32:D32)>0,SUM(A32:D32),"") | F32: =AD45 -> COLZA | Z32: =IF(AF32>0,RANK(AF32,AF$6:AF$422),"") | AA32: ='O_MN, PE_UTA_UGM 2024'!N9 -> 1 | AB32: ='O_MN, PE_UTA_UGM 2024'!O9 -> 0 | AC32: ='O_MN, PE_UTA_UGM 2024'!C9 -> 7 | AD32: =IF(AB32=0,'O_MN, PE_UTA_UGM 2024'!F9,CONCATENATE('O_MN, PE_UTA_UGM 2024'!F9," ","INVERNADERO")) -> SORGO | AF32: =SUM(AG32:AH32)+SUM(AJ32:AK32) -> 0 | AG32: =A19 -> 0 | AH32: =B19 -> 0 | AJ32: =C19 -> 0 | AK32: =D19 -> 0 | AL32: #=+SI(O((#¡REF!+#¡REF!)>0;(#¡REF!+#¡REF!)>0;(AJ32+AK32)>0);"SI";"NO") | AM32: ='O_MN, PE_UTA_UGM 2024'!J9 -> 400 | AN32: ='O_MN, PE_UTA_UGM 2024'!K9 -> 800 | AP32: ='O_MN, PE_UTA_UGM 2024'!H9 -> 114.19 | AQ32: ='O_MN, PE_UTA_UGM 2024'!I9 -> 240.4 | AS32: ='O_MN, PE_UTA_UGM 2024'!L9 -> 0.00465 | AT32: ='O_MN, PE_UTA_UGM 2024'!M9 -> 0.0098 | AV32: =AG32*AM32 -> 0 | AW32: =AH32*AN32 -> 0 | AX32: =1.25*AJ32*AM32 -> 0 | AY32: =1.25*AK32*AN32 -> 0 | AZ32: =AG32*AP32 -> 0 | BA32: =AH32*AQ32 -> 0 | BB32: =1.25*AJ32*AP32 -> 0 | BC32: =1.25*AK32*AQ32 -> 0 | BD32: =AG32*AS32 -> 0 | BE32: =AH32*AT32 -> 0 | BF32: =AJ32*AS32 -> 0 | BG32: =AK32*AT32 -> 0 | BH32: =IF(BH$24=$AA32,($AG32*$AM32)+($AJ32*$AM32*1.25)+($AH32*$AN32)+($AK32*$AN32*1.25),"") -> 0 | BI32: =IF(BI$24=$AA32,($AG32*$AM32)+($AJ32*$AM32*1.25)+($AH32*$AN32)+($AK32*$AN32*1.25),"") | BJ32: =IF(BJ$24=$AA32,($AG32*$AM32)+($AJ32*$AM32*1.25)+($AH32*$AN32)+($AK32*$AN32*1.25),"") | BK32: =IF(BK$24=$AA32,($AG32*$AM32)+($AJ32*$AM32*1.25)+($AH32*$AN32)+($AK32*$AN32*1.25),"") | BL32: =IF(BL$24=$AA32,($AG32*$AM32)+($AJ32*$AM32*1.25)+($AH32*$AN32)+($AK32*$AN32*1.25),"") | BM32: =IF(CONCATENATE(BH32,BI32,BJ32,BK32,BL32)="",1,"") | BS32: =(AG32*AM32)+(AH32*AN32)+((AJ32*AM32)+(AK32*AN32)*1.25) -> 0 | BT32: =(AG32*AP32)+(AH32*AQ32)+((AJ32*AP32)+(AK32*AQ32)*1.25) -> 0
E33: =IF(SUM(A33:D33)>0,SUM(A33:D33),"") | F33: =AD46 -> CAMELINA | Z33: =IF(AF33>0,RANK(AF33,AF$6:AF$422),"") | AA33: ='O_MN, PE_UTA_UGM 2024'!N10 -> 1 | AB33: ='O_MN, PE_UTA_UGM 2024'!O10 -> 0 | AC33: ='O_MN, PE_UTA_UGM 2024'!C10 -> 8 | AD33: =IF(AB33=0,'O_MN, PE_UTA_UGM 2024'!F10,CONCATENATE('O_MN, PE_UTA_UGM 2024'!F10," ","INVERNADERO")) -> AVENA | AF33: =SUM(AG33:AH33)+SUM(AJ33:AK33) -> 0 | AG33: =A20 -> 0 | AH33: =B21 -> 0 | AJ33: =C20 -> 0 | AK33: =D20 -> 0 | AL33: #=+SI(O((#¡REF!+#¡REF!)>0;(#¡REF!+#¡REF!)>0;(AJ33+AK33)>0);"SI";"NO") | AM33: ='O_MN, PE_UTA_UGM 2024'!J10 -> 294.04 | AN33: ='O_MN, PE_UTA_UGM 2024'!K10 -> 600 | AP33: ='O_MN, PE_UTA_UGM 2024'!H10 -> 114.19 | AQ33: ='O_MN, PE_UTA_UGM 2024'!I10 -> 240.4 | AS33: ='O_MN, PE_UTA_UGM 2024'!L10 -> 0.00465 | AT33: ='O_MN, PE_UTA_UGM 2024'!M10 -> 0.0098 | AV33: =AG33*AM33 -> 0 | AW33: =AH33*AN33 -> 0 | AX33: =1.25*AJ33*AM33 -> 0 | AY33: =1.25*AK33*AN33 -> 0 | AZ33: =AG33*AP33 -> 0 | BA33: =AH33*AQ33 -> 0 | BB33: =1.25*AJ33*AP33 -> 0 | BC33: =1.25*AK33*AQ33 -> 0 | BD33: =AG33*AS33 -> 0 | BE33: =AH33*AT33 -> 0 | BF33: =AJ33*AS33 -> 0 | BG33: =AK33*AT33 -> 0 | BH33: =IF(BH$24=$AA33,($AG33*$AM33)+($AJ33*$AM33*1.25)+($AH33*$AN33)+($AK33*$AN33*1.25),"") -> 0 | BI33: =IF(BI$24=$AA33,($AG33*$AM33)+($AJ33*$AM33*1.25)+($AH33*$AN33)+($AK33*$AN33*1.25),"") | BJ33: =IF(BJ$24=$AA33,($AG33*$AM33)+($AJ33*$AM33*1.25)+($AH33*$AN33)+($AK33*$AN33*1.25),"") | BK33: =IF(BK$24=$AA33,($AG33*$AM33)+($AJ33*$AM33*1.25)+($AH33*$AN33)+($AK33*$AN33*1.25),"") | BL33: =IF(BL$24=$AA33,($AG33*$AM33)+($AJ33*$AM33*1.25)+($AH33*$AN33)+($AK33*$AN33*1.25),"") | BM33: =IF(CONCATENATE(BH33,BI33,BJ33,BK33,BL33)="",1,"") | BS33: =(AG33*AM33)+(AH33*AN33)+((AJ33*AM33)+(AK33*AN33)*1.25) -> 0 | BT33: =(AG33*AP33)+(AH33*AQ33)+((AJ33*AP33)+(AK33*AQ33)*1.25) -> 0
E34: =IF(SUM(A34:D34)>0,SUM(A34:D34),"") | F34: =AD47 -> GUISANTE | Z34: =IF(AF34>0,RANK(AF34,AF$6:AF$422),"") | AA34: ='O_MN, PE_UTA_UGM 2024'!N11 -> 1 | AB34: ='O_MN, PE_UTA_UGM 2024'!O11 -> 0 | AC34: ='O_MN, PE_UTA_UGM 2024'!C11 -> 9 | AD34: =IF(AB34=0,'O_MN, PE_UTA_UGM 2024'!F11,CONCATENATE('O_MN, PE_UTA_UGM 2024'!F11," ","INVERNADERO")) -> ALFORFÓN | AF34: =SUM(AG34:AH34)+SUM(AJ34:AK34) -> 0 | AG34: =A21 -> 0 | AH34: =B22 -> 0 | AJ34: =C21 -> 0 | AK34: =D21 -> 0 | AL34: #=+SI(O((#¡REF!+#¡REF!)>0;(#¡REF!+#¡REF!)>0;(AJ34+AK34)>0);"SI";"NO") | AM34: ='O_MN, PE_UTA_UGM 2024'!J11 -> 265.73 | AN34: ='O_MN, PE_UTA_UGM 2024'!K11 -> 500 | AP34: ='O_MN, PE_UTA_UGM 2024'!H11 -> 114.19 | AQ34: ='O_MN, PE_UTA_UGM 2024'!I11 -> 240.4 | AS34: ='O_MN, PE_UTA_UGM 2024'!L11 -> 0.00465 | AT34: ='O_MN, PE_UTA_UGM 2024'!M11 -> 0.0098 | AV34: =AG34*AM34 -> 0 | AW34: =AH34*AN34 -> 0 | AX34: =1.25*AJ34*AM34 -> 0 | AY34: =1.25*AK34*AN34 -> 0 | AZ34: =AG34*AP34 -> 0 | BA34: =AH34*AQ34 -> 0 | BB34: =1.25*AJ34*AP34 -> 0 | BC34: =1.25*AK34*AQ34 -> 0 | BD34: =AG34*AS34 -> 0 | BE34: =AH34*AT34 -> 0 | BF34: =AJ34*AS34 -> 0 | BG34: =AK34*AT34 -> 0 | BH34: =IF(BH$24=$AA34,($AG34*$AM34)+($AJ34*$AM34*1.25)+($AH34*$AN34)+($AK34*$AN34*1.25),"") -> 0 | BI34: =IF(BI$24=$AA34,($AG34*$AM34)+($AJ34*$AM34*1.25)+($AH34*$AN34)+($AK34*$AN34*1.25),"") | BJ34: =IF(BJ$24=$AA34,($AG34*$AM34)+($AJ34*$AM34*1.25)+($AH34*$AN34)+($AK34*$AN34*1.25),"") | BK34: =IF(BK$24=$AA34,($AG34*$AM34)+($AJ34*$AM34*1.25)+($AH34*$AN34)+($AK34*$AN34*1.25),"") | BL34: =IF(BL$24=$AA34,($AG34*$AM34)+($AJ34*$AM34*1.25)+($AH34*$AN34)+($AK34*$AN34*1.25),"") | BM34: =IF(CONCATENATE(BH34,BI34,BJ34,BK34,BL34)="",1,"") | BS34: =(AG34*AM34)+(AH34*AN34)+((AJ34*AM34)+(AK34*AN34)*1.25) -> 0 | BT34: =(AG34*AP34)+(AH34*AQ34)+((AJ34*AP34)+(AK34*AQ34)*1.25) -> 0
E35: =IF(SUM(A35:D35)>0,SUM(A35:D35),"") | F35: =AD48 -> HABA | Z35: =IF(AF35>0,RANK(AF35,AF$6:AF$422),"") | AA35: ='O_MN, PE_UTA_UGM 2024'!N12 -> 1 | AB35: ='O_MN, PE_UTA_UGM 2024'!O12 -> 0 | AC35: ='O_MN, PE_UTA_UGM 2024'!C12 -> 10 | AD35: =IF(AB35=0,'O_MN, PE_UTA_UGM 2024'!F12,CONCATENATE('O_MN, PE_UTA_UGM 2024'!F12," ","INVERNADERO")) -> MIJO | AF35: =SUM(AG35:AH35)+SUM(AJ35:AK35) -> 0 | AG35: =A22 -> 0 | AH35: =B22 -> 0 | AJ35: =C22 -> 0 | AK35: =D22 -> 0 | AL35: #=+SI(O((#¡REF!+#¡REF!)>0;(#¡REF!+#¡REF!)>0;(AJ35+AK35)>0);"SI";"NO") | AM35: ='O_MN, PE_UTA_UGM 2024'!J12 -> 365.73 | AN35: ='O_MN, PE_UTA_UGM 2024'!K12 -> 600 | AP35: ='O_MN, PE_UTA_UGM 2024'!H12 -> 114.19 | AQ35: ='O_MN, PE_UTA_UGM 2024'!I12 -> 240.4 | AS35: ='O_MN, PE_UTA_UGM 2024'!L12 -> 0.00465 | AT35: ='O_MN, PE_UTA_UGM 2024'!M12 -> 0.0098 | AV35: =AG35*AM35 -> 0 | AW35: =AH35*AN35 -> 0 | AX35: =1.25*AJ35*AM35 -> 0 | AY35: =1.25*AK35*AN35 -> 0 | AZ35: =AG35*AP35 -> 0 | BA35: =AH35*AQ35 -> 0 | BB35: =1.25*AJ35*AP35 -> 0 | BC35: =1.25*AK35*AQ35 -> 0 | BD35: =AG35*AS35 -> 0 | BE35: =AH35*AT35 -> 0 | BF35: =AJ35*AS35 -> 0 | BG35: =AK35*AT35 -> 0 | BH35: =IF(BH$24=$AA35,($AG35*$AM35)+($AJ35*$AM35*1.25)+($AH35*$AN35)+($AK35*$AN35*1.25),"") -> 0 | BI35: =IF(BI$24=$AA35,($AG35*$AM35)+($AJ35*$AM35*1.25)+($AH35*$AN35)+($AK35*$AN35*1.25),"") | BJ35: =IF(BJ$24=$AA35,($AG35*$AM35)+($AJ35*$AM35*1.25)+($AH35*$AN35)+($AK35*$AN35*1.25),"") | BK35: =IF(BK$24=$AA35,($AG35*$AM35)+($AJ35*$AM35*1.25)+($AH35*$AN35)+($AK35*$AN35*1.25),"") | BL35: =IF(BL$24=$AA35,($AG35*$AM35)+($AJ35*$AM35*1.25)+($AH35*$AN35)+($AK35*$AN35*1.25),"") | BM35: =IF(CONCATENATE(BH35,BI35,BJ35,BK35,BL35)="",1,"") | BS35: =(AG35*AM35)+(AH35*AN35)+((AJ35*AM35)+(AK35*AN35)*1.25) -> 0 | BT35: =(AG35*AP35)+(AH35*AQ35)+((AJ35*AP35)+(AK35*AQ35)*1.25) -> 0
E36: =IF(SUM(A36:D36)>0,SUM(A36:D36),"") | F36: =AD49 -> ALTRAMUZ BLANCO | Z36: =IF(AF36>0,RANK(AF36,AF$6:AF$422),"") | AA36: ='O_MN, PE_UTA_UGM 2024'!N13 -> 1 | AB36: ='O_MN, PE_UTA_UGM 2024'!O13 -> 0 | AC36: ='O_MN, PE_UTA_UGM 2024'!C13 -> 11 | AD36: =IF(AB36=0,'O_MN, PE_UTA_UGM 2024'!F13,CONCATENATE('O_MN, PE_UTA_UGM 2024'!F13," ","INVERNADERO")) -> ALPISTE | AF36: =SUM(AG36:AH36)+SUM(AJ36:AK36) -> 0 | AG36: =A23 -> 0 | AH36: =B23 -> 0 | AJ36: =C23 -> 0 | AK36: =D23 -> 0 | AL36: #=+SI(O((#¡REF!+#¡REF!)>0;(#¡REF!+#¡REF!)>0;(AJ36+AK36)>0);"SI";"NO") | AM36: ='O_MN, PE_UTA_UGM 2024'!J13 -> 365.73 | AN36: ='O_MN, PE_UTA_UGM 2024'!K13 -> 600 | AP36: ='O_MN, PE_UTA_UGM 2024'!H13 -> 114.19 | AQ36: ='O_MN, PE_UTA_UGM 2024'!I13 -> 240.4 | AS36: ='O_MN, PE_UTA_UGM 2024'!L13 -> 0.00465 | AT36: ='O_MN, PE_UTA_UGM 2024'!M13 -> 0.0098 | AV36: =AG36*AM36 -> 0 | AW36: =AH36*AN36 -> 0 | AX36: =1.25*AJ36*AM36 -> 0 | AY36: =1.25*AK36*AN36 -> 0 | AZ36: =AG36*AP36 -> 0 | BA36: =AH36*AQ36 -> 0 | BB36: =1.25*AJ36*AP36 -> 0 | BC36: =1.25*AK36*AQ36 -> 0 | BD36: =AG36*AS36 -> 0 | BE36: =AH36*AT36 -> 0 | BF36: =AJ36*AS36 -> 0 | BG36: =AK36*AT36 -> 0 | BH36: =IF(BH$24=$AA36,($AG36*$AM36)+($AJ36*$AM36*1.25)+($AH36*$AN36)+($AK36*$AN36*1.25),"") -> 0 | BI36: =IF(BI$24=$AA36,($AG36*$AM36)+($AJ36*$AM36*1.25)+($AH36*$AN36)+($AK36*$AN36*1.25),"") | BJ36: =IF(BJ$24=$AA36,($AG36*$AM36)+($AJ36*$AM36*1.25)+($AH36*$AN36)+($AK36*$AN36*1.25),"") | BK36: =IF(BK$24=$AA36,($AG36*$AM36)+($AJ36*$AM36*1.25)+($AH36*$AN36)+($AK36*$AN36*1.25),"") | BL36: =IF(BL$24=$AA36,($AG36*$AM36)+($AJ36*$AM36*1.25)+($AH36*$AN36)+($AK36*$AN36*1.25),"") | BM36: =IF(CONCATENATE(BH36,BI36,BJ36,BK36,BL36)="",1,"") | BS36: =(AG36*AM36)+(AH36*AN36)+((AJ36*AM36)+(AK36*AN36)*1.25) -> 0 | BT36: =(AG36*AP36)+(AH36*AQ36)+((AJ36*AP36)+(AK36*AQ36)*1.25) -> 0
E37: =IF(SUM(A37:D37)>0,SUM(A37:D37),"") | F37: =AD50 -> ALUBIA | Z37: =IF(AF37>0,RANK(AF37,AF$6:AF$422),"") | AA37: ='O_MN, PE_UTA_UGM 2024'!N14 -> 1 | AB37: ='O_MN, PE_UTA_UGM 2024'!O14 -> 0 | AC37: ='O_MN, PE_UTA_UGM 2024'!C14 -> 12 | AD37: =IF(AB37=0,'O_MN, PE_UTA_UGM 2024'!F14,CONCATENATE('O_MN, PE_UTA_UGM 2024'!F14," ","INVERNADERO")) -> TRANQUILLÓN | AF37: =SUM(AG37:AH37)+SUM(AJ37:AK37) -> 0 | AG37: =A24 -> 0 | AH37: =B24 -> 0 | AJ37: =C24 -> 0 | AK37: =D24 -> 0 | AL37: #=+SI(O((#¡REF!+#¡REF!)>0;(#¡REF!+#¡REF!)>0;(AJ37+AK37)>0);"SI";"NO") | AM37: ='O_MN, PE_UTA_UGM 2024'!J14 -> 365.73 | AN37: ='O_MN, PE_UTA_UGM 2024'!K14 -> 600 | AP37: ='O_MN, PE_UTA_UGM 2024'!H14 -> 114.19 | AQ37: ='O_MN, PE_UTA_UGM 2024'!I14 -> 240.4 | AS37: ='O_MN, PE_UTA_UGM 2024'!L14 -> 0.00465 | AT37: ='O_MN, PE_UTA_UGM 2024'!M14 -> 0.0098 | AV37: =AG37*AM37 -> 0 | AW37: =AH37*AN37 -> 0 | AX37: =1.25*AJ37*AM37 -> 0 | AY37: =1.25*AK37*AN37 -> 0 | AZ37: =AG37*AP37 -> 0 | BA37: =AH37*AQ37 -> 0 | BB37: =1.25*AJ37*AP37 -> 0 | BC37: =1.25*AK37*AQ37 -> 0 | BD37: =AG37*AS37 -> 0 | BE37: =AH37*AT37 -> 0 | BF37: =AJ37*AS37 -> 0 | BG37: =AK37*AT37 -> 0 | BH37: =IF(BH$24=$AA37,($AG37*$AM37)+($AJ37*$AM37*1.25)+($AH37*$AN37)+($AK37*$AN37*1.25),"") -> 0 | BI37: =IF(BI$24=$AA37,($AG37*$AM37)+($AJ37*$AM37*1.25)+($AH37*$AN37)+($AK37*$AN37*1.25),"") | BJ37: =IF(BJ$24=$AA37,($AG37*$AM37)+($AJ37*$AM37*1.25)+($AH37*$AN37)+($AK37*$AN37*1.25),"") | BK37: =IF(BK$24=$AA37,($AG37*$AM37)+($AJ37*$AM37*1.25)+($AH37*$AN37)+($AK37*$AN37*1.25),"") | BL37: =IF(BL$24=$AA37,($AG37*$AM37)+($AJ37*$AM37*1.25)+($AH37*$AN37)+($AK37*$AN37*1.25),"") | BM37: =IF(CONCATENATE(BH37,BI37,BJ37,BK37,BL37)="",1,"") | BS37: =(AG37*AM37)+(AH37*AN37)+((AJ37*AM37)+(AK37*AN37)*1.25) -> 0 | BT37: =(AG37*AP37)+(AH37*AQ37)+((AJ37*AP37)+(AK37*AQ37)*1.25) -> 0
E38: =IF(SUM(A38:D38)>0,SUM(A38:D38),"") | F38: =AD51 -> GARBANZO | Z38: =IF(AF38>0,RANK(AF38,AF$6:AF$422),"") | AA38: ='O_MN, PE_UTA_UGM 2024'!N15 -> 1 | AB38: ='O_MN, PE_UTA_UGM 2024'!O15 -> 0 | AC38: ='O_MN, PE_UTA_UGM 2024'!C15 -> 13 | AD38: =IF(AB38=0,'O_MN, PE_UTA_UGM 2024'!F15,CONCATENATE('O_MN, PE_UTA_UGM 2024'!F15," ","INVERNADERO")) -> TRITICALE | AF38: =SUM(AG38:AH38)+SUM(AJ38:AK38) -> 0 | AG38: =A25 -> 0 | AH38: =B25 -> 0 | AJ38: =C25 -> 0 | AK38: =D25 -> 0 | AL38: #=+SI(O((#¡REF!+#¡REF!)>0;(#¡REF!+#¡REF!)>0;(AJ38+AK38)>0);"SI";"NO") | AM38: ='O_MN, PE_UTA_UGM 2024'!J15 -> 365.73 | AN38: ='O_MN, PE_UTA_UGM 2024'!K15 -> 700 | AP38: ='O_MN, PE_UTA_UGM 2024'!H15 -> 114.19 | AQ38: ='O_MN, PE_UTA_UGM 2024'!I15 -> 240.4 | AS38: ='O_MN, PE_UTA_UGM 2024'!L15 -> 0.00465 | AT38: ='O_MN, PE_UTA_UGM 2024'!M15 -> 0.0098 | AV38: =AG38*AM38 -> 0 | AW38: =AH38*AN38 -> 0 | AX38: =1.25*AJ38*AM38 -> 0 | AY38: =1.25*AK38*AN38 -> 0 | AZ38: =AG38*AP38 -> 0 | BA38: =AH38*AQ38 -> 0 | BB38: =1.25*AJ38*AP38 -> 0 | BC38: =1.25*AK38*AQ38 -> 0 | BD38: =AG38*AS38 -> 0 | BE38: =AH38*AT38 -> 0 | BF38: =AJ38*AS38 -> 0 | BG38: =AK38*AT38 -> 0 | BH38: =IF(BH$24=$AA38,($AG38*$AM38)+($AJ38*$AM38*1.25)+($AH38*$AN38)+($AK38*$AN38*1.25),"") -> 0 | BI38: =IF(BI$24=$AA38,($AG38*$AM38)+($AJ38*$AM38*1.25)+($AH38*$AN38)+($AK38*$AN38*1.25),"") | BJ38: =IF(BJ$24=$AA38,($AG38*$AM38)+($AJ38*$AM38*1.25)+($AH38*$AN38)+($AK38*$AN38*1.25),"") | BK38: =IF(BK$24=$AA38,($AG38*$AM38)+($AJ38*$AM38*1.25)+($AH38*$AN38)+($AK38*$AN38*1.25),"") | BL38: =IF(BL$24=$AA38,($AG38*$AM38)+($AJ38*$AM38*1.25)+($AH38*$AN38)+($AK38*$AN38*1.25),"") | BM38: =IF(CONCATENATE(BH38,BI38,BJ38,BK38,BL38)="",1,"") | BS38: =(AG38*AM38)+(AH38*AN38)+((AJ38*AM38)+(AK38*AN38)*1.25) -> 0 | BT38: =(AG38*AP38)+(AH38*AQ38)+((AJ38*AP38)+(AK38*AQ38)*1.25) -> 0
E39: =IF(SUM(A39:D39)>0,SUM(A39:D39),"") | F39: =AD52 -> LENTEJA | Z39: =IF(AF39>0,RANK(AF39,AF$6:AF$422),"") | AA39: ='O_MN, PE_UTA_UGM 2024'!N16 -> 1 | AB39: ='O_MN, PE_UTA_UGM 2024'!O16 -> 0 | AC39: ='O_MN, PE_UTA_UGM 2024'!C16 -> 14 | AD39: =IF(AB39=0,'O_MN, PE_UTA_UGM 2024'!F16,CONCATENATE('O_MN, PE_UTA_UGM 2024'!F16," ","INVERNADERO")) -> TRITORDEUM | AF39: =SUM(AG39:AH39)+SUM(AJ39:AK39) -> 0 | AG39: =A26 -> 0 | AH39: =B26 -> 0 | AJ39: =C26 -> 0 | AK39: =D26 -> 0 | AL39: #=+SI(O((#¡REF!+#¡REF!)>0;(#¡REF!+#¡REF!)>0;(AJ39+AK39)>0);"SI";"NO") | AM39: ='O_MN, PE_UTA_UGM 2024'!J16 -> 365.73 | AN39: ='O_MN, PE_UTA_UGM 2024'!K16 -> 700 | AP39: ='O_MN, PE_UTA_UGM 2024'!H16 -> 114.19 | AQ39: ='O_MN, PE_UTA_UGM 2024'!I16 -> 240.4 | AS39: ='O_MN, PE_UTA_UGM 2024'!L16 -> 0.00465 | AT39: ='O_MN, PE_UTA_UGM 2024'!M16 -> 0.0098 | AV39: =AG39*AM39 -> 0 | AW39: =AH39*AN39 -> 0 | AX39: =1.25*AJ39*AM39 -> 0 | AY39: =1.25*AK39*AN39 -> 0 | AZ39: =AG39*AP39 -> 0 | BA39: =AH39*AQ39 -> 0 | BB39: =1.25*AJ39*AP39 -> 0 | BC39: =1.25*AK39*AQ39 -> 0 | BD39: =AG39*AS39 -> 0 | BE39: =AH39*AT39 -> 0 | BF39: =AJ39*AS39 -> 0 | BG39: =AK39*AT39 -> 0 | BH39: =IF(BH$24=$AA39,($AG39*$AM39)+($AJ39*$AM39*1.25)+($AH39*$AN39)+($AK39*$AN39*1.25),"") -> 0 | BI39: =IF(BI$24=$AA39,($AG39*$AM39)+($AJ39*$AM39*1.25)+($AH39*$AN39)+($AK39*$AN39*1.25),"") | BJ39: =IF(BJ$24=$AA39,($AG39*$AM39)+($AJ39*$AM39*1.25)+($AH39*$AN39)+($AK39*$AN39*1.25),"") | BK39: =IF(BK$24=$AA39,($AG39*$AM39)+($AJ39*$AM39*1.25)+($AH39*$AN39)+($AK39*$AN39*1.25),"") | BL39: =IF(BL$24=$AA39,($AG39*$AM39)+($AJ39*$AM39*1.25)+($AH39*$AN39)+($AK39*$AN39*1.25),"") | BM39: =IF(CONCATENATE(BH39,BI39,BJ39,BK39,BL39)="",1,"") | BS39: =(AG39*AM39)+(AH39*AN39)+((AJ39*AM39)+(AK39*AN39)*1.25) -> 0 | BT39: =(AG39*AP39)+(AH39*AQ39)+((AJ39*AP39)+(AK39*AQ39)*1.25) -> 0
E40: =IF(SUM(A40:D40)>0,SUM(A40:D40),"") | F40: =AD53 -> VEZA | Z40: =IF(AF40>0,RANK(AF40,AF$6:AF$422),"") | AA40: ='O_MN, PE_UTA_UGM 2024'!N17 -> 1 | AB40: ='O_MN, PE_UTA_UGM 2024'!O17 -> 0 | AC40: ='O_MN, PE_UTA_UGM 2024'!C17 -> 19 | AD40: =IF(AB40=0,'O_MN, PE_UTA_UGM 2024'!F17,CONCATENATE('O_MN, PE_UTA_UGM 2024'!F17," ","INVERNADERO")) -> TEFF | AF40: =SUM(AG40:AH40)+SUM(AJ40:AK40) -> 0 | AG40: =A27 -> 0 | AH40: =B27 -> 0 | AJ40: =C27 -> 0 | AK40: =D27 -> 0 | AL40: #=+SI(O((#¡REF!+#¡REF!)>0;(#¡REF!+#¡REF!)>0;(AJ40+AK40)>0);"SI";"NO") | AM40: ='O_MN, PE_UTA_UGM 2024'!J17 -> 365.73 | AN40: ='O_MN, PE_UTA_UGM 2024'!K17 -> 600 | AP40: ='O_MN, PE_UTA_UGM 2024'!H17 -> 114.19 | AQ40: ='O_MN, PE_UTA_UGM 2024'!I17 -> 240.4 | AS40: ='O_MN, PE_UTA_UGM 2024'!L17 -> 0.00465 | AT40: ='O_MN, PE_UTA_UGM 2024'!M17 -> 0.0098 | AV40: =AG40*AM40 -> 0 | AW40: =AH40*AN40 -> 0 | AX40: =1.25*AJ40*AM40 -> 0 | AY40: =1.25*AK40*AN40 -> 0 | AZ40: =AG40*AP40 -> 0 | BA40: =AH40*AQ40 -> 0 | BB40: =1.25*AJ40*AP40 -> 0 | BC40: =1.25*AK40*AQ40 -> 0 | BD40: =AG40*AS40 -> 0 | BE40: =AH40*AT40 -> 0 | BF40: =AJ40*AS40 -> 0 | BG40: =AK40*AT40 -> 0 | BH40: =IF(BH$24=$AA40,($AG40*$AM40)+($AJ40*$AM40*1.25)+($AH40*$AN40)+($AK40*$AN40*1.25),"") -> 0 | BI40: =IF(BI$24=$AA40,($AG40*$AM40)+($AJ40*$AM40*1.25)+($AH40*$AN40)+($AK40*$AN40*1.25),"") | BJ40: =IF(BJ$24=$AA40,($AG40*$AM40)+($AJ40*$AM40*1.25)+($AH40*$AN40)+($AK40*$AN40*1.25),"") | BK40: =IF(BK$24=$AA40,($AG40*$AM40)+($AJ40*$AM40*1.25)+($AH40*$AN40)+($AK40*$AN40*1.25),"") | BL40: =IF(BL$24=$AA40,($AG40*$AM40)+($AJ40*$AM40*1.25)+($AH40*$AN40)+($AK40*$AN40*1.25),"") | BM40: =IF(CONCATENATE(BH40,BI40,BJ40,BK40,BL40)="",1,"") | BS40: =(AG40*AM40)+(AH40*AN40)+((AJ40*AM40)+(AK40*AN40)*1.25) -> 0 | BT40: =(AG40*AP40)+(AH40*AQ40)+((AJ40*AP40)+(AK40*AQ40)*1.25) -> 0
...

Sheet O_resumen_cultivos
B1: ORDEN X SUP | C1: COD. PRO | D1: NOMBRE CULTIVO | E1: Totales | F1: SUP. SECANO ECO | G1: SUP. REGADIO ECO | H1: SUP. SECANO NO ECO | I1: SUP. REGADIO NO ECO | J1: Cultivo principal, cultivo secundario y cultivos agregados | M1: Resumen de cultivos totales, listando de C1, C2 y superficies agregadas. | V1: 1 | W1: 2 | X1: 3 | Y1: 4 | Z1: 5 | AA1: 6 | AB1: 7 | AC1: 8 | AD1: 9
B2: 1 | C2: 2 | D2: 4 | E2: 5 | F2: 6 | G2: 7 | H2: 8 | I2: 9 | J2: 11 | K2: 12 | U2: 1 | V2: =_xlfn.IFNA(VLOOKUP($U2,$A$2:$I$49,V$1,FALSE()),"") | W2: =_xlfn.IFNA(VLOOKUP($U2,$A$2:$I$49,W$1,FALSE()),"") | X2: =_xlfn.IFNA(VLOOKUP($U2,$A$2:$I$49,X$1,FALSE()),"") | Y2: =_xlfn.IFNA(VLOOKUP($U2,$A$2:$I$49,Y$1,FALSE()),"") | Z2: =_xlfn.IFNA(VLOOKUP($U2,$A$2:$I$49,Z$1,FALSE()),"") | AA2: =_xlfn.IFNA(VLOOKUP($U2,$A$2:$I$49,AA$1,FALSE()),"") | AB2: =_xlfn.IFNA(VLOOKUP($U2,$A$2:$I$49,AB$1,FALSE()),"") | AC2: =_xlfn.IFNA(VLOOKUP($U2,$A$2:$I$49,AC$1,FALSE()),"") | AD2: =_xlfn.IFNA(VLOOKUP($U2,$A$2:$I$49,AD$1,FALSE()),"") | AF2: 1
A3: =IF(E3<>"",RANK(E3,E$3:E$49),"") | B3: 1 | C3: =_xlfn.IFNA(VLOOKUP($B3,O_CALC_CultivoPrincipal!$AP$7:$AX$423,C$2,FALSE()),"") | D3: =_xlfn.IFNA(VLOOKUP($B3,O_CALC_CultivoPrincipal!$AP$7:$AX$423,D$2,FALSE()),"") | E3: =_xlfn.IFNA(VLOOKUP($B3,O_CALC_CultivoPrincipal!$AP$7:$AX$423,E$2,FALSE()),"") | F3: =_xlfn.IFNA(VLOOKUP($B3,O_CALC_CultivoPrincipal!$AP$7:$AX$423,F$2,FALSE()),"") | G3: =_xlfn.IFNA(VLOOKUP($B3,O_CALC_CultivoPrincipal!$AP$7:$AX$423,G$2,FALSE()),"") | H3: =_xlfn.IFNA(VLOOKUP($B3,O_CALC_CultivoPrincipal!$AP$7:$AX$423,H$2,FALSE()),"") | I3: =_xlfn.IFNA(VLOOKUP($B3,O_CALC_CultivoPrincipal!$AP$7:$AX$423,I$2,FALSE()),"") | J3: 1 | U3: 2 | V3: =_xlfn.IFNA(VLOOKUP($U3,$A$2:$I$49,V$1,FALSE()),"") | W3: =_xlfn.IFNA(VLOOKUP($U3,$A$2:$I$49,W$1,FALSE()),"") | X3: =_xlfn.IFNA(VLOOKUP($U3,$A$2:$I$49,X$1,FALSE()),"") | Y3: =_xlfn.IFNA(VLOOKUP($U3,$A$2:$I$49,Y$1,FALSE()),"") | Z3: =_xlfn.IFNA(VLOOKUP($U3,$A$2:$I$49,Z$1,FALSE()),"") | AA3: =_xlfn.IFNA(VLOOKUP($U3,$A$2:$I$49,AA$1,FALSE()),"") | AB3: =_xlfn.IFNA(VLOOKUP($U3,$A$2:$I$49,AB$1,FALSE()),"") | AC3: =_xlfn.IFNA(VLOOKUP($U3,$A$2:$I$49,AC$1,FALSE()),"") | AD3: =_xlfn.IFNA(VLOOKUP($U3,$A$2:$I$49,AD$1,FALSE()),"") | AF3: 2
