Workbook
Name CREDASIG: '[1]Asignaturas UZ'!$B$2:$G$12749
Name CREDASIG: '[2]Asignaturas UZ'!$B$2:$G$12749
Name TBAREMO: [3]umbrales!$A$3:$F$23
Name TBAREMO: [4]umbrales!$A$3:$F$23
Name UMBRALES: [5]UMBRALES!$A$3:$E$23
Name UMBRALES: UMBRALES!#REF!

Sheet UMBRALES
A1: Miembros familia | B1: Intervalo de ingresos (Euros)
A2: 1 | B2: 15000
A3: 2 | B3: 25050
A4: 3 | B4: 33450
A5: 4 | B5: 39810
A6: 5 | B6: 44706
A7: 6 | B7: 49008
A8: 7 | B8: 53148
A9: 8 | B9: 57264
A10: 9 | B10: 61362
A11: 10 | B11: 65362
A12: 11 | B12: 69362
A13: 12 | B13: 73362
... A22: 21 | B22: 109362

Sheet Instrucciones
A1: ESTE SIMULADOR PERMITE A LA PERSONA SOLICITANTE CALCULAR CUÁL ES SU RENTA FAMILIAR COMPUTABLE PARA EL CURSO ACADÉMICO 2024/2025
A2: • Los resultados que obtengas a través de este simulador no vinculan a la Administración que comprobará, igualmente, cuál es tu RENTA EQUIVALENTE
A3: • Solo debes introducir datos en las CASILLAS SOMBREADAS EN AZUL, el resto de casillas se autocalculan con los datos introducidos.
A4: • Introduce los datos en el siguiente orden:
A5: 1º.-DATOS GENERALES
A6: 2º.-SIMULACIÓN
A7: 3º.-RESULTADO
A8: • Las personas de la unidad familiar, con rentas computables, que prevé esta simulación son:
A9: -La persona sustentadora principal y, en su caso, su cónyuge, pareja registrada o persona unida por análoga relación.
A10: • Si tienes dudas o esta hoja de cálculo no se ajusta a las necesidades de tus circunstancias, puedes ponerte en contacto con los teléfonos de consulta que figuran en la página del trámite o a través del correo electrónico becas_movilidad@aragon.es.

Sheet 1- DATOS GENERALES
A1: DATOS GENERALES NECESARIOS PARA LA SIMULACIÓN
B2: Nº DE PERSONAS COMPUTABLES DE LA UNIDAD FAMILIAR
B3: =CONCATENATE("Nº DE PERSONAS DE LA UNIDAD FAMILIAR CON RENTAS COMPUTABLES (máximo 2)") -> Nº DE PERSONAS DE LA UNIDAD FAMILIAR CON RENTAS COMPUTABLES (máximo 2)
B4: PERSONA SUSTENTADORA PRINCIPAL DE LA UNIDAD FAMILIAR (elegir del desplegable en A4)
B6: Personas de la unidad familiar con rentas computables | G6: Otras personas de la unidad familiar sin rentas computables
B8: Sustentador/a principal | C8: Cónyuge del/de la sustentador/a | D8: miembro adicional 1 | E8: miembro adicional 2 | F8: miembro adicional 3
A9: Relación familiar con la persona solicitante | B9: =IF(A4=0,"PENDIENTE",A4) -> PENDIENTE | G9: =IF(+A2="","PENDIENTE",IF((A2-A3)<0,"REVISA EL Nº DE PERSONAS COMPUTABLES DE LA UNIDAD FAMILIAR",A2-A3)) -> PENDIENTE
A10: (seleccionar con los desplegables)
A11: ¿Presentó declaración del 2022?
A12: (seleccionar con los desplegables) | D12: =IF(OR(E10="S",F10="S",G10="S",H10="S",I10="S"),"Tipo de Declaración (seleccionar de los desplegables)"," ") | E12: =IF(OR(F10="S",G10="S",H10="S",I10="S",J10="S"),"Tipo de Declaración (seleccionar de los desplegables)"," ") | F12: =IF(OR(G10="S",H10="S",I10="S",J10="S",K10="S"),"Tipo de Declaración (seleccionar de los desplegables)"," ") | L12: =IF(OR(M10="S",N10="S",O10="S",P10="S",Q10="S"),"Tipo de Declaración (seleccionar de los desplegables)"," ") | M12: =IF(OR(N10="S",O10="S",P10="S",Q10="S",R10="S"),"Tipo de Declaración (seleccionar de los desplegables)"," ") | N12: =IF(OR(O10="S",P10="S",Q10="S",R10="S",S10="S"),"Tipo de Declaración (seleccionar de los desplegables)"," ") | O12: =IF(OR(P10="S",Q10="S",R10="S",S10="S",T10="S"),"Tipo de Declaración (seleccionar de los desplegables)"," ") | P12: =IF(OR(Q10="S",R10="S",S10="S",T10="S",U10="S"),"Tipo de Declaración (seleccionar de los desplegables)"," ") | Q12: =IF(OR(R10="S",S10="S",T10="S",U10="S",V10="S"),"Tipo de Declaración (seleccionar de los desplegables)"," ") | R12: =IF(OR(S10="S",T10="S",U10="S",V10="S",W10="S"),"Tipo de Declaración (seleccionar de los desplegables)"," ") | S12: =IF(OR(T10="S",U10="S",V10="S",W10="S",X10="S"),"Tipo de Declaración (seleccionar de los desplegables)"," ") | ... AME12: =IF(OR(AMF10="S",AMG10="S",AMH10="S",AMI10="S",AMJ10="S"),"Tipo de Declaración (seleccionar de los desplegables)"," ") | AMF12: =IF(OR(AMG10="S",AMH10="S",AMI10="S",AMJ10="S",#REF!="S"),"Tipo de Declaración (seleccionar de los desplegables)"," ") -> #REF! | AMG12: =IF(OR(AMH10="S",AMI10="S",AMJ10="S",#REF!="S",#REF!="S"),"Tipo de Declaración (seleccionar de los desplegables)"," ") -> #REF! | AMH12: =IF(OR(AMI10="S",AMJ10="S",#REF!="S",#REF!="S",#REF!="S"),"Tipo de Declaración (seleccionar de los desplegables)"," ") -> #REF! | AMI12: =IF(OR(AMJ10="S",#REF!="S",#REF!="S",#REF!="S",#REF!="S"),"Tipo de Declaración (seleccionar de los desplegables)"," ") -> #REF! | AMJ12: =IF(OR(#REF!="S",#REF!="S",#REF!="S",#REF!="S",#REF!="S"),"Tipo de Declaración (seleccionar de los desplegables)"," ") -> #REF!
A13: =IF(OR($B$11="S",$C$11="S",$D$11="S",$E$11="S",$F$11="S"),"Tipo de declaración"," ")
A14: =IF(OR($B$11="S",$C$11="S",$D$11="S",$E$11="S",$F$11="S"),"(seleccionar con los desplegables)"," ")
A20: Sustentador Principal | B20: 1 | C20: =IF(F27="NO",B20,B20+1) -> 2 | D20: =C20+1 -> 3 | E20: =D20+1 -> 4 | F20: =E20+1 -> 5
A22: PADRE | B22: S | D22: =IF(B26=B28,"HIJO"," ")
A23: MADRE | B23: N | C23: =IF(EXACT(B26,A22),"MADRE",IF(EXACT(B26,A23),"PADRE"," ")) | D23: =IF(B26=B28,"HIJA"," ")
A24: SOLIC. Titular de familia propia | B24: G | C24: =IF(EXACT(B26,A22),"CONYUGE DEL PADRE",IF(EXACT(B26,A23),"CONYUGE DE LA MADRE","Cónyuge, pareja registrada o persona unida por análoga relación")) -> Cónyuge, pareja registrada o persona unida por análoga relación | D24: =IF(B26=B28,"PADRE"," ") | G24: Individual
A25: SOLIC. Huérfano absoluto | B25: E | D25: =IF(B26=B28,"MADRE"," ") | G25: Conjunta
A26: SOLIC. Independencia familiar | B26: =LEFT(A4,5) | D26: SOLICITANTE | E26: =LEFT(C24,2) -> Có
D27: HERMANO | E27: =LEFT(C25,2) | F27: =LEFT(C9,2)
A28: CÓNYUGE DEL PADRE | B28: SOLIC | D28: HERMANA
A29: CÓNYUGE DE LA MADRE | D29: ABUELO
A30: CONYUGE DEL SOLICITANTE | D30: ABUELA
A31: =COUNTIF(B9:F9,"SOLICITANTE") -> 0 | D31: OTRAS

Sheet 2- SIMULACION
B1: DATOS DE RENTA NECESARIOS PARA LA SIMULACIÓN
B2: ='1- DATOS GENERALES'!A3 -> 0 | D2: Sustentador/a principal | H2: Cónyuge del/de la sustentador/a
C4: ='1- DATOS GENERALES'!A9 -> Relación familiar con la persona solicitante | D4: ='1- DATOS GENERALES'!A4 -> 0 | H4: ='1- DATOS GENERALES'!C9 -> 0 | L4: TOTAL UNIDAD FAMILIAR
C5: Declaración del 2022 | D5: ='1- DATOS GENERALES'!B11 -> 0 | H5: ='1- DATOS GENERALES'!C11 -> 0
C6: ='1- DATOS GENERALES'!A13 | D6: =IF(D5="N"," ",'1- DATOS GENERALES'!B13) -> 0 | H6: =IF(H5="N"," ",'1- DATOS GENERALES'!C13) -> 0
B7: DECLARANTES | C7: CASILLA 420 declaración 2022 | L7: =SUM(D7:K7) -> 0
C8: CASILLA 432 declaración 2022 | L8: =SUM(D8:K8) -> 0
C9: CASILLA 424 declaración 2022 | L9: =SUM(D9:K9) -> 0
C10: CASILLA 429 declaración 2022 | L10: =SUM(D10:K10) -> 0
C11: CASILLA 421 declaración 2022 | L11: =SUM(D11:K11) -> 0
C12: CASILLA 425 declaración 2022 | L12: =SUM(D12:K12) -> 0
C13: CASILLA 430 declaración 2022 | L13: =SUM(D13:K13) -> 0
C14: CASILLA 595 declaración 2022 | L14: =SUM(D14:K14) -> 0
C15: RENTA Declarantes | D15: =D7+D8-D11-D12-D13+D9+D10-D14 -> 0 | H15: =H7+H8-H11-H12-H13+H9+H10-H14 -> 0 | L15: =SUM(D15:K15) -> 0
B17: NO DECLARANTES | C17: Rentas de trabajo | L17: =SUM(D17:K17) -> 0
C18: Otras rentas | L18: =SUM(D18:K18) -> 0
C19: Ingresos computables | D19: =D17+D18 -> 0 | H19: =H17+H18 -> 0 | L19: =SUM(D19:K19) -> 0
C20: Retenciones a cuenta | L20: =SUM(D20:K20) -> 0
C21: RENTA No Declarantes | D21: =D19-D20 -> 0 | H21: =H19-H20 -> 0 | L21: =SUM(D21:K21) -> 0
C23: RENTA FAMILIAR COMPUTABLE | D23: =D15+D21 -> 0 | H23: =H15+H21 -> 0 | L23: =L15+L21 -> 0

Sheet 3-RESULTADO
A1: RESUMEN DE SIMULACIÓN PARA LOS DATOS INTRODUCIDOS
A2: Nº PERSONAS COMPUTABLES DE LA UNIDAD FAMILIAR | B2: ='1- DATOS GENERALES'!A2 -> 0
A3: Nº PERSONAS DE LA UNIDAD FAMILIAR CON RENTAS COMPUTABLES | B3: =+'1- DATOS GENERALES'!A3 -> 0
A4: RENTA FAMILIAR COMPUTABLE | B4: =+'2- SIMULACION'!L23 -> 0
A5: UMBRAL DE INADMISIÓN | B5: =IFERROR(VLOOKUP(B2,UMBRALES!A2:B22,2,FALSE),"PENDIENTE") -> PENDIENTE
A6: =IF(B4=0,"PENDIENTE",IF(B4<=B5,"Cumples el requisito del nivel de renta","NO cumples el requisito del nivel de renta")) -> PENDIENTE
